BEGIN:VCALENDAR
VERSION:2.0
PRODID:-//wp-events-plugin.com//7.2.3.1//EN
TZID:Asia/Tokyo
X-WR-TIMEZONE:Asia/Tokyo
BEGIN:VEVENT
UID:34@tochuri.net
DTSTART;TZID=Asia/Tokyo:20191105T154500
DTEND;TZID=Asia/Tokyo:20191105T164500
DTSTAMP:20191204T071204Z
URL:http://www.tochuri.net/events/%e4%bb%a4%e5%92%8c%e5%85%83%e5%b9%b4%e5%
 ba%a6%e7%ac%ac5%e5%9b%9e%e8%a6%b3%e5%af%9f%e5%ae%9f%e9%a8%93%e5%a7%94%e5%9
 3%a1%e4%bc%9a/
SUMMARY:令和元年度第5回観察実験委員会
DESCRIPTION:[pdf-embedder url="http://www.tochuri.net/wp-content/uploads/20
 19/11/19kansatsu05-annai.pdf" title="令和元年度第5回観察実験委
 員会　ご案内"]\n\n\n\n日時\n令和元年11月5日（火）15:45～
 16:45\n内容\n\n 	協議　研究発表に向けての検討、準備\n 	
 次年度の研究テーマの設定等\n 	情報交換\n
CATEGORIES:観察・実験委員会
LOCATION:豊島区立駒込中学校\, 駒込4-5-1\, 豊島区\, 東京都\
 , 170-0003\, 日本
X-APPLE-STRUCTURED-LOCATION;VALUE=URI;X-ADDRESS=駒込4-5-1\, 豊島区\, 
 東京都\, 170-0003\, 日本;X-APPLE-RADIUS=100;X-TITLE=豊島区立駒
 込中学校:geo:0,0
END:VEVENT
BEGIN:VTIMEZONE
TZID:Asia/Tokyo
X-LIC-LOCATION:Asia/Tokyo
BEGIN:STANDARD
DTSTART:20181105T154500
TZOFFSETFROM:+0900
TZOFFSETTO:+0900
TZNAME:JST
END:STANDARD
END:VTIMEZONE
END:VCALENDAR