BEGIN:VCALENDAR
VERSION:2.0
PRODID:-//wp-events-plugin.com//7.2.3.1//EN
TZID:Asia/Tokyo
X-WR-TIMEZONE:Asia/Tokyo
BEGIN:VEVENT
UID:33@tochuri.net
DTSTART;TZID=Asia/Tokyo:20191111T150000
DTEND;TZID=Asia/Tokyo:20191111T164500
DTSTAMP:20191204T071204Z
URL:http://www.tochuri.net/events/%e4%bb%a4%e5%92%8c%e5%85%83%e5%b9%b4%e5%
 ba%a6%e7%ac%ac7%e5%9b%9e%e5%ad%a6%e7%bf%92%e3%83%bb%e8%a9%95%e4%be%a1%e5%a
 7%94%e5%93%a1%e4%bc%9a/
SUMMARY:令和元年度第7回学習・評価委員会
DESCRIPTION:[pdf-embedder url="http://www.tochuri.net/wp-content/uploads/20
 19/11/19hyoka07-annai01.pdf" title="令和元年度第7回学習・評価
 委員会　ご案内"]\n\n[pdf-embedder url="http://www.tochuri.net/wp-co
 ntent/uploads/2019/11/19hyoka07-annai02.pdf" title="令和元年度第7回
 学習・評価委員会　FAX送信票"]\n\n\n\n日時\n令和元年１
 １月１１日（月） 15:00～16:45\n内容\n次期学習指導要領
 に基づく授業改善と評価のあり方についての研究・研
 修
CATEGORIES:学習・評価委員会
LOCATION:東京都立小石川中等教育学校\, 本駒込2-29-29\, 文
 京区\, 東京都\, 1130021\, 日本
X-APPLE-STRUCTURED-LOCATION;VALUE=URI;X-ADDRESS=本駒込2-29-29\, 文京
 区\, 東京都\, 1130021\, 日本;X-APPLE-RADIUS=100;X-TITLE=東京都立
 小石川中等教育学校:geo:0,0
END:VEVENT
BEGIN:VTIMEZONE
TZID:Asia/Tokyo
X-LIC-LOCATION:Asia/Tokyo
BEGIN:STANDARD
DTSTART:20181111T150000
TZOFFSETFROM:+0900
TZOFFSETTO:+0900
TZNAME:JST
END:STANDARD
END:VTIMEZONE
END:VCALENDAR