BEGIN:VCALENDAR
VERSION:2.0
PRODID:-//wp-events-plugin.com//7.2.3.1//EN
TZID:Asia/Tokyo
X-WR-TIMEZONE:Asia/Tokyo
BEGIN:VEVENT
UID:50@tochuri.net
DTSTART;TZID=Asia/Tokyo:20210106T123000
DTEND;TZID=Asia/Tokyo:20210106T154500
DTSTAMP:20201223T131856Z
URL:http://www.tochuri.net/events/%e4%bb%a4%e5%92%8c2%e5%b9%b4%e5%ba%a6%e5
 %86%ac%e5%ad%a3%e7%a0%94%e4%bf%ae%e4%bc%9a/
SUMMARY:令和2年度冬季研修会
DESCRIPTION:
CATEGORIES:研修会,研修部
LOCATION:新宿区立西早稲田中学校\, 戸山3丁目20-2\, 新宿区\
 , 東京都\, 1620052\, 日本
X-APPLE-STRUCTURED-LOCATION;VALUE=URI;X-ADDRESS=戸山3丁目20-2\, 新宿
 区\, 東京都\, 1620052\, 日本;X-APPLE-RADIUS=100;X-TITLE=新宿区立
 西早稲田中学校:geo:0,0
END:VEVENT
BEGIN:VTIMEZONE
TZID:Asia/Tokyo
X-LIC-LOCATION:Asia/Tokyo
BEGIN:STANDARD
DTSTART:20200107T123000
TZOFFSETFROM:+0900
TZOFFSETTO:+0900
TZNAME:JST
END:STANDARD
END:VTIMEZONE
END:VCALENDAR