BEGIN:VCALENDAR
VERSION:2.0
PRODID:-//wp-events-plugin.com//7.2.3.1//EN
TZID:Asia/Tokyo
X-WR-TIMEZONE:Asia/Tokyo
BEGIN:VEVENT
UID:48@tochuri.net
DTSTART;TZID=Asia/Tokyo;VALUE=DATE:20200821
DTEND;TZID=Asia/Tokyo;VALUE=DATE:20200822
DTSTAMP:20200721T075126Z
URL:http://www.tochuri.net/events/%e4%bb%a4%e5%92%8c2%e5%b9%b4%e5%ba%a6%e7
 %ac%ac2%e5%9b%9e%e3%83%9d%e3%82%b9%e3%82%bf%e3%83%bc%e3%82%bb%e3%83%83%e3%
 82%b7%e3%83%a7%e3%83%b3/
SUMMARY:令和2年度第2回ポスターセッション
DESCRIPTION:[pdf-embedder url="http://www.tochuri.net/wp-content/uploads/20
 20/07/20ps0821notification.pdf" title="令和2年度ポスターセッシ
 ョン　開催通知"]\n\n\n\n\n 	 目 的\n\n 	通常の理科授業に
 おける指導法の工夫や新たな教材・教具等の情報を共
 有することによ\nり、自己の授業力の向上につなげる。
 \n 	参観により理科における分野や単元、項目ごとの特
 性を理解し、理科教員としての専門性\nをさらに高める
 とともに、理科教員としての自己啓発につなげる。\n 	
 ポスターセッションを通し、授業における工夫・改善
 を発表する機会を設けるとともに、\n他の理科教員と切
 磋琢磨し資質・能力の向上につなげる。\n 	若手教員、
 中堅教員の人材育成、意欲向上の場とする。\n\n\n 	発表
 内容について\n\n 	通常の授業でそのまま使える指導法
 、アイディアを活かすと生徒の理解が深まる教材や教\n
 具、他教科とのつながりやICTで使える教材等\n 	研究部
 主催の「会員研究発表会」や広報部主催の「教材コン
 テンスト」等、内容によって\nは参加可とする。\n\n\n 	
 申込み・発表場所、日時\n\n 	申込みについて\n\n 	令和
 ２年８月６日（木）まで別紙申込書により応募する。\n
  	申込者多数の場合は担当事務局で調整し、連絡します
 。\n\n\n 	ポスターセッション（発表）について\n\n 	令和
 ２年８月２１日（金）豊島区立駒込中学校１４時４０
 分～１５時４０分\n 	（１２時３０分から同会場にて夏
 季研修会を行います。案内は別に送付いたします。）\n
 \n\n\n\n 	申込み資格\n\n 	中学校理科教員またはそれに準
 ずる者\n 	原則１人（１グループ）１ブース（グループ
 での申し込みも可）\n\n\n 	発表について\n\n 	発表時間は
 １時間とする。体育館等の壁面を利用してポスターセ
 ッション（説明）をする。\n 	掲示板と教材や資料をお
 ける長机を用意する。発表者は１～３名程度とする。\n
  	掲示板はＡ０判（模造紙１枚分のサイズ）縦置きとす
 る。Ａ３判の用紙であれば、４～８枚は掲示できる。\n
  	掲示板の構成は自由とする。最上段にタイトル・学校
 名・氏名等を記載する。\n 	文字・図表は、２～３メー
 トル離れても読み取れる大きさにする。\n 	都外に発信
 および他府県と交流を図るため、他府県の教員の参加
 希望を認める。\n 	【以下は申込時に要相談】\n\n 	教材
 ・資料やパソコンの持ち込み、実験の実演\n 	イベント
 や研修の案内、自主研究会への参加勧誘などのチラシ
 配布\n 	資料・教材の配布やそれに伴う実費の徴収、理
 科室での発表、電源の確保等\n\n\n\n\n
CATEGORIES:ポスターセッション,研修会
LOCATION:豊島区立駒込中学校\, 駒込4-5-1\, 豊島区\, 東京都\
 , 170-0003\, 日本
X-APPLE-STRUCTURED-LOCATION;VALUE=URI;X-ADDRESS=駒込4-5-1\, 豊島区\, 
 東京都\, 170-0003\, 日本;X-APPLE-RADIUS=100;X-TITLE=豊島区立駒
 込中学校:geo:0,0
END:VEVENT
BEGIN:VTIMEZONE
TZID:Asia/Tokyo
X-LIC-LOCATION:Asia/Tokyo
BEGIN:STANDARD
DTSTART:20190822T000000
TZOFFSETFROM:+0900
TZOFFSETTO:+0900
TZNAME:JST
END:STANDARD
END:VTIMEZONE
END:VCALENDAR