BEGIN:VCALENDAR
VERSION:2.0
PRODID:-//wp-events-plugin.com//7.2.3.1//EN
TZID:Asia/Tokyo
X-WR-TIMEZONE:Asia/Tokyo
BEGIN:VEVENT
UID:47@tochuri.net
DTSTART;TZID=Asia/Tokyo;VALUE=DATE:20200821
DTEND;TZID=Asia/Tokyo;VALUE=DATE:20200822
DTSTAMP:20200722T052726Z
URL:http://www.tochuri.net/events/%e4%bb%a4%e5%92%8c2%e5%b9%b4%e5%ba%a6%e7
 %ac%ac2%e5%9b%9e%e5%a4%8f%e5%ad%a3%e7%a0%94%e4%bf%ae%e4%bc%9a/
SUMMARY:令和2年度夏季研修会
DESCRIPTION:[pdf-embedder url="http://www.tochuri.net/wp-content/uploads/20
 20/07/20kenshu0821summer.pdf" title="令和2年度夏季研修会のご案
 内"]\n\n\n\n\n 	日時　令和２年８月２１日（金）　午後１
 ２時３０分～午後４時５０分（受付１２時～）\n 	会場
 　豊島区立駒込中学校　〒170-0003　豊島区駒込４－５－
 １\n 	プログラム\n\n 	開校式　午後１２時３０分～午後
 １２時４０分\n\n 	都中理会長挨拶\n 	事務連絡（研修部
 副部長）\n\n\n 	講座１　午後１２時４０分～午後１時３
 ０分\n\n 	講師：秩父市立吉田中学校　長谷川隼也先生\n
  	講演テーマ「理科の指導法と教材の工夫 ～生徒の学
 ぶ意欲を高めるために～」\n\n\n 	講座２　午後１時４０
 分～午後２時３０\n\n 	講師：東京学芸大学附属小金井
 中学校　大西琢也先生\n 	講演テーマ「ICTを活用したデ
 ジタルトランスフォーメーションに対応する理科教育 
 ～真の個別最適化を目指すこれからを見据えて～」\n\n\
 n 	都中理ポスターセッション　午後２時４０分～午後
 ３時４０分\n 	講演　午後３時５０分～午後４時５０分\
 n\n 	講師：元文部科学省学力調査官、北里大学理学部准
 教授(教職課程センター)　田中保樹先生\n 	講演テーマ
 「理科における学習評価とは」\n\n\n 	閉会式　午後４時
 ５０分～\n\n 	アンケート記入\n 	事務連絡\n\n\n\n\n 	その
 他\n\n 	参加者名簿を用意します。押印をお願いします
 。\n 	研修会場ではあらかじめ用意された名札をお付け
 ください。\n 	指定された場所への立ち入りはご遠慮く
 ださい。\n 	研修修了証を発行しますので、研修報告を
 する際に所属校の管理職にご提出ください。\n\n\n
CATEGORIES:研修会,研修部
LOCATION:豊島区立駒込中学校\, 駒込4-5-1\, 豊島区\, 東京都\
 , 170-0003\, 日本
X-APPLE-STRUCTURED-LOCATION;VALUE=URI;X-ADDRESS=駒込4-5-1\, 豊島区\, 
 東京都\, 170-0003\, 日本;X-APPLE-RADIUS=100;X-TITLE=豊島区立駒
 込中学校:geo:0,0
END:VEVENT
BEGIN:VTIMEZONE
TZID:Asia/Tokyo
X-LIC-LOCATION:Asia/Tokyo
BEGIN:STANDARD
DTSTART:20190822T000000
TZOFFSETFROM:+0900
TZOFFSETTO:+0900
TZNAME:JST
END:STANDARD
END:VTIMEZONE
END:VCALENDAR