BEGIN:VCALENDAR
VERSION:2.0
PRODID:-//wp-events-plugin.com//7.2.3.1//EN
TZID:Asia/Tokyo
X-WR-TIMEZONE:Asia/Tokyo
BEGIN:VEVENT
UID:45@tochuri.net
DTSTART;TZID=Asia/Tokyo:20200706T160000
DTEND;TZID=Asia/Tokyo:20200706T170000
DTSTAMP:20200627T091250Z
URL:http://www.tochuri.net/events/%e4%bb%a4%e5%92%8c2%e5%b9%b4%e5%ba%a6%e7
 %ac%ac2%e5%9b%9e%e5%bd%b9%e5%93%a1%e4%bc%9a%e3%83%bb%e4%bb%a3%e8%a1%a8%e7%
 90%86%e4%ba%8b%e4%bc%9a-2/
SUMMARY:令和2年度第2回役員会・代表理事会
DESCRIPTION:\n\n\n配布文書\n[pdf-embedder url="http://www.tochuri.net/w
 p-content/uploads/2020/06/20yakuin02-1.pdf" title="令和2年度第２回
 役員会・代表理事会　開催通知"]\n\n\n\n日時\n令和2年7月
 6日(月) 16:00〜\n場所\n豊島区立駒込中学校\n内容\n\n 	会
 長あいさつ\n 	役員自己紹介\n 	各部会、委員会進捗状況
  *課題も含めて\n 	令和 2 年度今後の活動について\n 	そ
 の他 事務連絡\n\nその他\n\n 	印鑑をご持参ください
  ※当研究会が出席管理を行います。\n 	次回は8月21日
 (金)に夏季研修会会場で第3回を行う予定です。\n 	
 今回、新型コロナウイルス感染症対応のため、役員の
 対象者を絞り実施となりました。 (会長、副会長、参与
 、部長、副部長、事務局 *部長、委員長が欠席の場合
 は副部長、副委員長の代理出席をお願いします。)\n 	配
 布資料がある場合、印刷して 20 部ご持参くださ
 い。\n 	欠席する場合は、事務局長または会長に連絡し
 てください。\n\n\n\n
CATEGORIES:事務局,博物館連携推進委員会,学習・評価委員
 ,広報部,役員会・理事会,教育課程委員会,環境教育委
 会,研修会,研修部,研究部,観察・実験委員会
LOCATION:豊島区立駒込中学校\, 駒込4-5-1\, 豊島区\, 東京都\
 , 170-0003\, 日本
X-APPLE-STRUCTURED-LOCATION;VALUE=URI;X-ADDRESS=駒込4-5-1\, 豊島区\, 
 東京都\, 170-0003\, 日本;X-APPLE-RADIUS=100;X-TITLE=豊島区立駒
 込中学校:geo:0,0
END:VEVENT
BEGIN:VTIMEZONE
TZID:Asia/Tokyo
X-LIC-LOCATION:Asia/Tokyo
BEGIN:STANDARD
DTSTART:20190707T160000
TZOFFSETFROM:+0900
TZOFFSETTO:+0900
TZNAME:JST
END:STANDARD
END:VTIMEZONE
END:VCALENDAR