BEGIN:VCALENDAR
VERSION:2.0
PRODID:-//wp-events-plugin.com//7.2.3.1//EN
TZID:Asia/Tokyo
X-WR-TIMEZONE:Asia/Tokyo
BEGIN:VEVENT
UID:46@tochuri.net
DTSTART;TZID=Asia/Tokyo:20200821T103000
DTEND;TZID=Asia/Tokyo:20200821T120000
DTSTAMP:20200812T021540Z
URL:http://www.tochuri.net/events/%e4%bb%a4%e5%92%8c2%e5%b9%b4%e5%ba%a6%e7
 %ac%ac2%e5%9b%9e%e5%bd%b9%e5%93%a1%e4%bc%9a%e3%83%bb%e7%90%86%e4%ba%8b%e4%
 bc%9a/
SUMMARY:令和2年度第3回役員会
DESCRIPTION:\n\n\n\n[pdf-embedder url="http://www.tochuri.net/wp-content/up
 loads/2020/08/20yakuin03.pdf" title="令和2年度役員会　開催通知
 "]\n\n\n\n\n 	日時　令和2年8月21(金) 午前10時30分から\n 	内
 容\n\n 	会長あいさつ\n 	全中理福岡大会 Web での理事
 会についての報告\n 	各部会、委員会進捗状況、令和2年
 度都中理今後の活動について\n 	その他 情報交換、事務
 連絡\n\n\n 	その他\n\n 	印鑑をご持参ください ※当
 研究会が出席管理を行います。\n 	次回は10月29日(木)
 に第4回を行う予定です。\n 	今回も前回同様、新型コ
 ロナウイルス感染症対応のため、役員の対象者を絞り
 実施とい たします。(会長、副会長、参与、部長、副部
 長、事務局 *部長、委員長が欠席の場合は副部長、 
 副委員長の代理出席をお願いします。)\n 	配布資料が
 ある場合、印刷して20 部ご持参ください。\n 	欠席
 する場合は、事務局長または会長に連絡してくださ
 い。\n\n\n\n\n\n
CATEGORIES:事務局,博物館連携推進委員会,学習・評価委員
 ,広報部,役員会・理事会,教育課程委員会,環境教育委
 会,生徒研究発表会,研修部,研究部,観察・実験委員会
LOCATION:豊島区立駒込中学校\, 駒込4-5-1\, 豊島区\, 東京都\
 , 170-0003\, 日本
X-APPLE-STRUCTURED-LOCATION;VALUE=URI;X-ADDRESS=駒込4-5-1\, 豊島区\, 
 東京都\, 170-0003\, 日本;X-APPLE-RADIUS=100;X-TITLE=豊島区立駒
 込中学校:geo:0,0
END:VEVENT
BEGIN:VTIMEZONE
TZID:Asia/Tokyo
X-LIC-LOCATION:Asia/Tokyo
BEGIN:STANDARD
DTSTART:20190822T103000
TZOFFSETFROM:+0900
TZOFFSETTO:+0900
TZNAME:JST
END:STANDARD
END:VTIMEZONE
END:VCALENDAR