BEGIN:VCALENDAR
VERSION:2.0
PRODID:-//wp-events-plugin.com//7.2.3.1//EN
TZID:Asia/Tokyo
X-WR-TIMEZONE:Asia/Tokyo
BEGIN:VEVENT
UID:44@tochuri.net
DTSTART;TZID=Asia/Tokyo:20200629T153000
DTEND;TZID=Asia/Tokyo:20200629T164500
DTSTAMP:20200609T222245Z
URL:http://www.tochuri.net/events/%e4%bb%a4%e5%92%8c2%e5%b9%b4%e5%ba%a6%e7
 %ac%ac2%e5%9b%9e%e7%a0%94%e7%a9%b6%e9%83%a8%e4%bc%9a/
SUMMARY:令和2年度第2回研究部会
DESCRIPTION:配布文書\n[pdf-embedder url="http://www.tochuri.net/wp-cont
 ent/uploads/2020/06/20kenkyu0629.pdf" title="令和2年度第2回研究部
 会　開催のお知らせ"]\n\n\n\n\n 	日時　令和2年6月29日（
 月）15:30～16:45\n 	会場　豊島区立駒込中学校　理科室\n 
 	内容\n\n 	主体的・対話的で深い学びの実現に向けた授
 業改善について\n 	令和2年度東京都理科教育研究会各部
 委員資料の合同発送\n 	各地区の情報交換\n\n\n 	その他\n
 \n 	印鑑をご持参ください（当研究会が出席管理を行い
 ます）\n 	名札をご持参の上、会場での着用をお願いし
 ます\n 	裏面 の参加確認票にご記入い ただき、６月２
 ３日（火）までＦＡＸ送信をお願の参加確認票にご記
 入い ただき、６月２３日（火）までＦＡＸ送信をお願
 いたします。\n\n\n
CATEGORIES:研究部
LOCATION:豊島区立駒込中学校\, 駒込4-5-1\, 豊島区\, 東京都\
 , 170-0003\, 日本
X-APPLE-STRUCTURED-LOCATION;VALUE=URI;X-ADDRESS=駒込4-5-1\, 豊島区\, 
 東京都\, 170-0003\, 日本;X-APPLE-RADIUS=100;X-TITLE=豊島区立駒
 込中学校:geo:0,0
END:VEVENT
BEGIN:VTIMEZONE
TZID:Asia/Tokyo
X-LIC-LOCATION:Asia/Tokyo
BEGIN:STANDARD
DTSTART:20190630T153000
TZOFFSETFROM:+0900
TZOFFSETTO:+0900
TZNAME:JST
END:STANDARD
END:VTIMEZONE
END:VCALENDAR