BEGIN:VCALENDAR
VERSION:2.0
PRODID:-//wp-events-plugin.com//7.2.3.1//EN
TZID:Asia/Tokyo
X-WR-TIMEZONE:Asia/Tokyo
BEGIN:VEVENT
UID:52@tochuri.net
DTSTART;TZID=Asia/Tokyo:20210117T000000
DTEND;TZID=Asia/Tokyo:20210117T000000
DTSTAMP:20210116T025000Z
URL:http://www.tochuri.net/events/%e4%bb%a4%e5%92%8c2%e5%b9%b4%e5%ba%a6%e7
 %ac%ac66%e5%9b%9e%e7%94%9f%e5%be%92%e7%a0%94%e7%a9%b6%e7%99%ba%e8%a1%a8%e4
 %bc%9a/
SUMMARY:令和2年度第66回生徒研究発表会（紙上発表）
DESCRIPTION:＜重要＞新型コロナウイルス感染症の拡大に伴
 い、参集しての開催を取り止め、紙上発表となります
 。\n配布文書\n[pdf-embedder url="http://www.tochuri.net/wp-content/up
 loads/2020/09/21seito0117-03.pdf" title="令和2年度生徒研究発表
 会　応募について"]\n\n[pdf-embedder url="http://www.tochuri.net/wp
 -content/uploads/2020/08/21seito0117-01.pdf" title="令和2年度生徒研
 究発表会　申込書"]\n\n令和2年度生徒研究発表会　申込
 書（Word版）\n\n[pdf-embedder url="http://www.tochuri.net/wp-content/u
 ploads/2020/08/21seito0117-02.pdf" title="令和2年度生徒研究発表
 会　応募票"]\n\n令和2年度生徒研究発表会　応募票（Word
 版）
CATEGORIES:生徒研究発表会,研究部
END:VEVENT
BEGIN:VTIMEZONE
TZID:Asia/Tokyo
X-LIC-LOCATION:Asia/Tokyo
BEGIN:STANDARD
DTSTART:20200118T000000
TZOFFSETFROM:+0900
TZOFFSETTO:+0900
TZNAME:JST
END:STANDARD
END:VTIMEZONE
END:VCALENDAR