BEGIN:VCALENDAR
VERSION:2.0
PRODID:-//wp-events-plugin.com//7.2.3.1//EN
TZID:Asia/Tokyo
X-WR-TIMEZONE:Asia/Tokyo
BEGIN:VEVENT
UID:65@tochuri.net
DTSTART;TZID=Asia/Tokyo:20210521T150000
DTEND;TZID=Asia/Tokyo:20210521T170000
DTSTAMP:20210520T133508Z
URL:http://www.tochuri.net/events/%e4%bb%a4%e5%92%8c3%e5%b9%b4%e5%ba%a6%e5
 %ae%9a%e6%9c%9f%e7%b7%8f%e4%bc%9a/
SUMMARY:令和3年度定期総会
DESCRIPTION:配布文書\n[pdf-embedder url="http://www.tochuri.net/wp-cont
 ent/uploads/2021/05/21sokai-00.pdf" title="令和3年度定期総会　開
 催通知"]\n\n[pdf-embedder url="http://www.tochuri.net/wp-content/upload
 s/2021/05/21sokai-01.pdf" title="令和2年度事業報告"]\n\n[pdf-embed
 der url="http://www.tochuri.net/wp-content/uploads/2021/05/21sokai-02.pdf"
  title="令和3年度事業計画（案）"]\n\n[pdf-embedder url="http://
 www.tochuri.net/wp-content/uploads/2021/05/21sokai-03.pdf" title="令和3
 年度定期総会　議案書"]\n\n\n\n日時\n令和３年５月２１
 日（金）午後３時００分から\n\n内容\n\n 	定期総会・研
 修会\n\n 	新型コロナウイルス感染症の拡大防止のため
 、講演会等は実施いたしません。\n 	他、ZOOMを使って開
 催します。URL等は回覧文書をご覧ください。\n\n\n
CATEGORIES:事務局,役員会・理事会
LOCATION:新宿区立西早稲田中学校\, 戸山3丁目20-2\, 新宿区\
 , 東京都\, 1620052\, 日本
X-APPLE-STRUCTURED-LOCATION;VALUE=URI;X-ADDRESS=戸山3丁目20-2\, 新宿
 区\, 東京都\, 1620052\, 日本;X-APPLE-RADIUS=100;X-TITLE=新宿区立
 西早稲田中学校:geo:0,0
END:VEVENT
BEGIN:VTIMEZONE
TZID:Asia/Tokyo
X-LIC-LOCATION:Asia/Tokyo
BEGIN:STANDARD
DTSTART:20200521T150000
TZOFFSETFROM:+0900
TZOFFSETTO:+0900
TZNAME:JST
END:STANDARD
END:VTIMEZONE
END:VCALENDAR