BEGIN:VCALENDAR
VERSION:2.0
PRODID:-//wp-events-plugin.com//7.2.3.1//EN
TZID:Asia/Tokyo
X-WR-TIMEZONE:Asia/Tokyo
BEGIN:VEVENT
UID:84@tochuri.net
DTSTART;TZID=Asia/Tokyo:20211227T103000
DTEND;TZID=Asia/Tokyo:20211227T114500
DTSTAMP:20211213T140124Z
URL:http://www.tochuri.net/events/%e4%bb%a4%e5%92%8c3%e5%b9%b4%e5%ba%a6%e7
 %ac%ac5%e5%9b%9e%e5%bd%b9%e5%93%a1%e4%bc%9a/
SUMMARY:令和3年度第5回役員会
DESCRIPTION:\n\n\n配布文書\n[pdf-embedder url="http://www.tochuri.net/w
 p-content/uploads/2021/12/21yakuin05-1227.pdf" title="令和3年度第5回
 役員会　開催通知"]\n\n\n\n内容\n\n 	会長挨拶\n 	全中理よ
 り\n 	各部会、委員会等の進捗状況報告および今後の
 活動に関する協議\n 	各地区の活動状況の情報交換およ
 び研修\n 	その他 事務連絡 閉会後に、休憩・昼食を
 おとりいただき、その後は都中理冬季研修会となり
 ます。\n\nその他\n\n 	当日は、全中理2023東京大会につい
 ての協議も行いますので、できましたら会場にこ
 ゙参集いただけますと幸いです。なお、準備委員
 の皆さんにもご参加いただく予定です。\n 	配布
 資料がある場合、12月24日(金)までに、事務局まて
 ゙電子データにてお 送りいただけますと幸いで
 す。\n 	西早稲田中学校にてご参加の場合は、印章を
 ご持参ください。(当研究会が出席管 理を行いま
 す。)\n 	会場使用上の都合により、出欠席の事前確認に
 ご協力いただきたく、裏面の出席 確認票にご記
 入いただき、10月24日(金)までにFAX送信または電子
 メー ルにてご都合をお知らせください。\n\n\n\n
CATEGORIES:事務局,学習・評価委員会,広報部,役員会・理事
 会,教育課程委員会,環境教育委員会,研修部,研究部,観察
 ・実験委員会
LOCATION:新宿区立西早稲田中学校\, 戸山3丁目20-2\, 新宿区\
 , 東京都\, 1620052\, 日本
X-APPLE-STRUCTURED-LOCATION;VALUE=URI;X-ADDRESS=戸山3丁目20-2\, 新宿
 区\, 東京都\, 1620052\, 日本;X-APPLE-RADIUS=100;X-TITLE=新宿区立
 西早稲田中学校:geo:0,0
END:VEVENT
BEGIN:VTIMEZONE
TZID:Asia/Tokyo
X-LIC-LOCATION:Asia/Tokyo
BEGIN:STANDARD
DTSTART:20201227T103000
TZOFFSETFROM:+0900
TZOFFSETTO:+0900
TZNAME:JST
END:STANDARD
END:VTIMEZONE
END:VCALENDAR