BEGIN:VCALENDAR
VERSION:2.0
PRODID:-//wp-events-plugin.com//7.2.3.1//EN
TZID:Asia/Tokyo
X-WR-TIMEZONE:Asia/Tokyo
BEGIN:VEVENT
UID:96@tochuri.net
DTSTART;TZID=Asia/Tokyo:20221118T140000
DTEND;TZID=Asia/Tokyo:20221118T170000
DTSTAMP:20221117T110057Z
URL:http://www.tochuri.net/events/%e4%bb%a4%e5%92%8c4%e5%b9%b4%e5%ba%a6%e4
 %bc%9a%e5%93%a1%e7%a0%94%e7%a9%b6%e7%99%ba%e8%a1%a8%e4%bc%9a/
SUMMARY:令和4年度会員研究発表会
DESCRIPTION:[pdf-embedder url="http://www.tochuri.net/wp-content/uploads/20
 22/10/22kaiin-ken01.pdf" title="令和4年度会員研究発表会　開
 催通知"]\n\n\n\n内容\n\n 	報告「科学系博物館を活⽤した
 ワークシートの開発」【都中理 博物館連携プロジェク
 ト】⽂京区⽴第六中学校 川島 紀⼦・世⽥⾕区⽴駒沢中
 学校 内藤 理恵\n\n 	[pdf-embedder url="http://www.tochuri.net/wp-con
 tent/uploads/2022/11/22kaiin-ken_mc.pdf" title="令和4年度会員研究
 発表会配布資料　博物館連携プロジェクトのあゆみ"]\n\
 n\n 	発表\n\n 	「主体的に学習に向かう態度の育成に⽣か
 す教育活動 〜１⼈１台端末環境の現状と課題〜」【教
 育課程委員会】中野区⽴第五中学校　⽥辺　匠\n\n 	[pdf-
 embedder url="http://www.tochuri.net/wp-content/uploads/2022/11/22kaiin-ke
 n_p01.pdf" title="令和4年度会員研究発表会配布資料　教育
 課程委員会"]\n\n\n 	「吸⽔性⾼分⼦を⽤いた植物の栽培
 と⼦葉・根の観察」【観察・実験委員会】品川区⽴品
 川学園　⾕本　登\n\n 	[pdf-embedder url="http://www.tochuri.net/wp
 -content/uploads/2022/11/22kaiin-ken_p02.pdf" title="令和4年度会員
 研究発表会配布資料　観察実験委員会"]\n\n\n 	「放射線
 学習を通した思考⼒・判断⼒の育成 〜⼀⼈⼀台のタブ
 レット端末を活⽤して〜」【環境教育委員会】品川区
 ⽴⼾越台中学校　⾼⽥　利博\n\n 	[pdf-embedder url="http://www
 .tochuri.net/wp-content/uploads/2022/11/22kaiin-ken_p03.pdf" title="令和
 4年度会員研究発表会配布資料　環境教育委員会"]\n\n\n 	
 「主体的に学習に取り組む態度」の評価の⼯夫」【都
 中理 学習評価委員会】豊島区⽴明豊中学校　松本　和
 記\n\n 	[pdf-embedder url="http://www.tochuri.net/wp-content/uploads/2022
 /11/22kaiin-ken_p04-1.pdf" title="令和4年度会員研究発表会配布
 資料　学習評価委員会１"]\n 	[pdf-embedder url="http://www.tochu
 ri.net/wp-content/uploads/2022/11/22kaiin-ken_p04-2.pdf" title="令和4年
 度会員研究発表会配布資料　学習評価委員会２"]\n 	[pdf-
 embedder url="http://www.tochuri.net/wp-content/uploads/2022/11/22kaiin-ke
 n_p04-3.pdf" title="令和4年度会員研究発表会配布資料　学
 習評価委員会３"]\n\n\n\n\n 	質疑・応答\n 	講評　敬愛大
 学教育学部こども教育学科准教授　小林　輝明先生\n
CATEGORIES:会員研究発表会
LOCATION:豊島区立駒込中学校\, 駒込4-5-1\, 豊島区\, 東京都\
 , 170-0003\, 日本
X-APPLE-STRUCTURED-LOCATION;VALUE=URI;X-ADDRESS=駒込4-5-1\, 豊島区\, 
 東京都\, 170-0003\, 日本;X-APPLE-RADIUS=100;X-TITLE=豊島区立駒
 込中学校:geo:0,0
END:VEVENT
BEGIN:VTIMEZONE
TZID:Asia/Tokyo
X-LIC-LOCATION:Asia/Tokyo
BEGIN:STANDARD
DTSTART:20211118T140000
TZOFFSETFROM:+0900
TZOFFSETTO:+0900
TZNAME:JST
END:STANDARD
END:VTIMEZONE
END:VCALENDAR