BEGIN:VCALENDAR
VERSION:2.0
PRODID:-//wp-events-plugin.com//7.2.3.1//EN
TZID:Asia/Tokyo
X-WR-TIMEZONE:Asia/Tokyo
BEGIN:VEVENT
UID:92@tochuri.net
DTSTART;TZID=Asia/Tokyo:20220607T163000
DTEND;TZID=Asia/Tokyo:20220607T174500
DTSTAMP:20220617T225503Z
URL:http://www.tochuri.net/events/%e4%bb%a4%e5%92%8c4%e5%b9%b4%e5%ba%a6%e7
 %92%b0%e5%a2%83%e6%95%99%e8%82%b2%e5%a7%94%e5%93%a1%e4%bc%9a%e3%80%80%e7%a
 0%94%e4%bf%ae%e4%bc%9a/
SUMMARY:令和4年度環境教育委員会　研修会
DESCRIPTION:
CATEGORIES:環境教育委員会
END:VEVENT
BEGIN:VTIMEZONE
TZID:Asia/Tokyo
X-LIC-LOCATION:Asia/Tokyo
BEGIN:STANDARD
DTSTART:20210607T163000
TZOFFSETFROM:+0900
TZOFFSETTO:+0900
TZNAME:JST
END:STANDARD
END:VTIMEZONE
END:VCALENDAR