BEGIN:VCALENDAR
VERSION:2.0
PRODID:-//wp-events-plugin.com//7.2.3.1//EN
TZID:Asia/Tokyo
X-WR-TIMEZONE:Asia/Tokyo
BEGIN:VEVENT
UID:97@tochuri.net
DTSTART;TZID=Asia/Tokyo:20230115T130000
DTEND;TZID=Asia/Tokyo:20230115T170000
DTSTAMP:20221221T043231Z
URL:http://www.tochuri.net/events/%e4%bb%a4%e5%92%8c4%e5%b9%b4%e5%ba%a6%e7
 %94%9f%e5%be%92%e7%a0%94%e7%a9%b6%e7%99%ba%e8%a1%a8%e4%bc%9a/
SUMMARY:令和4年度生徒研究発表会
DESCRIPTION:[pdf-embedder url="http://www.tochuri.net/wp-content/uploads/20
 22/12/22seito-ken-sankan.pdf" title="教員の参観申込について"]\n
 \n[pdf-embedder url="http://www.tochuri.net/wp-content/uploads/2022/08/22s
 eito-ken-oubo.pdf" title="令和４年度生徒研究発表会　応募に
 ついて"]\n\n令和４年度生徒研究発表会　応募票\n\n[pdf-em
 bedder url="http://www.tochuri.net/wp-content/uploads/2022/07/22seito-ken0
 0.pdf" title="令和4年度生徒研究発表会　開催通知"]\n\n\n\n
 内容\n\n 	会場のスクリーンを用いた発表 （研究内容の
 説明と質疑応答）\n 	研究発表に対する生徒同士の相互
 評価\n\n\n 	新型コロナウイルス感染防止等の対応のため
 、会場の 広さ などから、当日の出席 は人数制限を さ
 せていただ くことがあります 。ご理解とご協力をお願
 い申し上げます。\n
CATEGORIES:生徒研究発表会,研修部
LOCATION:豊島区立駒込中学校\, 駒込4-5-1\, 豊島区\, 東京都\
 , 170-0003\, 日本
X-APPLE-STRUCTURED-LOCATION;VALUE=URI;X-ADDRESS=駒込4-5-1\, 豊島区\, 
 東京都\, 170-0003\, 日本;X-APPLE-RADIUS=100;X-TITLE=豊島区立駒
 込中学校:geo:0,0
END:VEVENT
BEGIN:VTIMEZONE
TZID:Asia/Tokyo
X-LIC-LOCATION:Asia/Tokyo
BEGIN:STANDARD
DTSTART:20220115T130000
TZOFFSETFROM:+0900
TZOFFSETTO:+0900
TZNAME:JST
END:STANDARD
END:VTIMEZONE
END:VCALENDAR