BEGIN:VCALENDAR
VERSION:2.0
PRODID:-//wp-events-plugin.com//7.2.3.1//EN
TZID:Asia/Tokyo
X-WR-TIMEZONE:Asia/Tokyo
BEGIN:VEVENT
UID:90@tochuri.net
DTSTART;TZID=Asia/Tokyo:20221226T100000
DTEND;TZID=Asia/Tokyo:20221226T120000
DTSTAMP:20221221T042647Z
URL:http://www.tochuri.net/events/%e4%bb%a4%e5%92%8c4%e5%b9%b4%e5%ba%a6%e7
 %ac%ac5%e5%9b%9e%e5%bd%b9%e5%93%a1%e4%bc%9a/
SUMMARY:令和4年度第5回役員会
DESCRIPTION:配布文書\n[pdf-embedder url="http://www.tochuri.net/wp-cont
 ent/uploads/2022/12/22yakuin05.pdf" title="令和4年度第5回役員会
 　開催通知"]\n\n\n\n内容\n\n 	会長挨拶\n 	各部会・委員会
 等の進捗状況報告と今後の活動に関する協議\n 	実践事
 例研修、各地区の活動状況の情報交換および協議\n 	そ
 の他 事務連絡\n\nその他\n\n 	部長や委員長が欠席の場合
 は、副部長、副委員長の代理出席をお願いします。 な 
 お、ＦＡＸ送信、 または電子メールにてご都合をお知
 らせいただけましたら幸いです。\n 	配布資料がある場
 合、印刷して４０部をご持参ください。\n 	印章をお持
 ちください。（当研究会が出席管理を行います。）\n 	
 次回 の 第６回役員会は ２ 月１７日（金）の開催予定
 です。\n 	当日は 、 別途ご案内のように、 全中理東京
 大会運営員会 第 ２回 、 都中理 冬季 研修会 の開催 が
  予定 されています 。 ご多用の折に誠に恐縮に存じま
 すが、ご出席のほどを合わせてお願い 申し上げます。\
 n
CATEGORIES:役員会・理事会
LOCATION:江東区立有明西学園\, 有明 3-11-1\, 江東区\, 東京
 都\, 1350063\, 日本
X-APPLE-STRUCTURED-LOCATION;VALUE=URI;X-ADDRESS=有明 3-11-1\, 江東区\,
  東京都\, 1350063\, 日本;X-APPLE-RADIUS=100;X-TITLE=江東区立有
 明西学園:geo:0,0
END:VEVENT
BEGIN:VTIMEZONE
TZID:Asia/Tokyo
X-LIC-LOCATION:Asia/Tokyo
BEGIN:STANDARD
DTSTART:20211226T100000
TZOFFSETFROM:+0900
TZOFFSETTO:+0900
TZNAME:JST
END:STANDARD
END:VTIMEZONE
END:VCALENDAR