BEGIN:VCALENDAR
VERSION:2.0
PRODID:-//wp-events-plugin.com//7.2.3.1//EN
TZID:Asia/Tokyo
X-WR-TIMEZONE:Asia/Tokyo
BEGIN:VEVENT
UID:91@tochuri.net
DTSTART;TZID=Asia/Tokyo:20230217T153000
DTEND;TZID=Asia/Tokyo:20230217T170000
DTSTAMP:20230208T015933Z
URL:http://www.tochuri.net/events/%e4%bb%a4%e5%92%8c4%e5%b9%b4%e5%ba%a6%e7
 %ac%ac6%e5%9b%9e%e5%bd%b9%e5%93%a1%e4%bc%9a/
SUMMARY:令和4年度第6回役員会
DESCRIPTION:配布文書\n[pdf-embedder url="http://www.tochuri.net/wp-cont
 ent/uploads/2023/02/22yakuin06.pdf" title="令和4年度第6回役員会
 　開催通知"]\n\n\n\n内容\n\n 	会長挨拶\n 	全中理より\n 	
 各部会、委員会等の進捗状況報告および 次年度の活動
 に関する協議\n 	第70回全中理東京大会の運営に関する
 協議\n 	各地区の活動状況の情報交換および研修\n 	その
 他　事務連絡\n\nその他\n\n 	部長や委員長が欠席の場合
 は、副部長、副委員長の代理出席をお願いします。 な
 お、ＦＡＸ送信、または電子メールにてご都合をお知
 らせいただけましたら幸いです。\n 	配布資料がある場
 合、印刷して４０部をご持参ください。\n 	印章をお持
 ちください。（当研究会が出席管理を行います。）\n
CATEGORIES:役員会・理事会
LOCATION:豊島区立西池袋中学校\, 西池袋４ー７ー１\, 豊島
 区\, 東京都\, 1710021\, 日本
X-APPLE-STRUCTURED-LOCATION;VALUE=URI;X-ADDRESS=西池袋４ー７ー１\, 
 豊島区\, 東京都\, 1710021\, 日本;X-APPLE-RADIUS=100;X-TITLE=豊島
 区立西池袋中学校:geo:0,0
END:VEVENT
BEGIN:VTIMEZONE
TZID:Asia/Tokyo
X-LIC-LOCATION:Asia/Tokyo
BEGIN:STANDARD
DTSTART:20220217T153000
TZOFFSETFROM:+0900
TZOFFSETTO:+0900
TZNAME:JST
END:STANDARD
END:VTIMEZONE
END:VCALENDAR