BEGIN:VCALENDAR
VERSION:2.0
PRODID:-//wp-events-plugin.com//7.2.3.1//EN
TZID:Asia/Tokyo
X-WR-TIMEZONE:Asia/Tokyo
BEGIN:VEVENT
UID:93@tochuri.net
DTSTART;TZID=Asia/Tokyo;VALUE=DATE:20220809
DTEND;TZID=Asia/Tokyo;VALUE=DATE:20220811
DTSTAMP:20220728T023552Z
URL:http://www.tochuri.net/events/%e4%bb%a4%e5%92%8c4%e5%b9%b4%e5%ba%a6%e7
 %ac%ac69%e5%9b%9e%e5%85%a8%e5%9b%bd%e4%b8%ad%e5%ad%a6%e6%a0%a1%e7%90%86%e7
 %a7%91%e6%95%99%e8%82%b2%e7%a0%94%e7%a9%b6%e4%bc%9a%e4%b8%89%e9%87%8d%e5%a
 4%a7/
SUMMARY:令和4年度第69回全国中学校理科教育研究会　三重
 大会
DESCRIPTION:配布文書\n[pdf-embedder url="http://www.tochuri.net/wp-cont
 ent/uploads/2022/06/22zcr-99.pdf" title="令和4年度第69回全国中学
 校理科教育研究会三重大会　最終案内"]\n\n[pdf-embedder url
 ="http://www.tochuri.net/wp-content/uploads/2022/06/22zcr-yakuin.pdf" titl
 e="令和4年度第69回全国中学校理科教育研究会三重大会
 　役員申込"]\n\n[pdf-embedder url="http://www.tochuri.net/wp-content/
 uploads/2022/06/22zcr-ippan.pdf" title="令和4年度第69回全国中学
 校理科教育研究会三重大会　一般申込"]\n\n\n\n\n\n\n\n研
 究主題\n理科の見方・考え方を働かせて資質・能力を育
 み，豊かな未来を切り拓く理科教育\n大会主題\n自然の
 事物や現象に目を向け，科学的な探究活動を通して，
 未来を創造する力を育む理科 教育\n開催期日\n対面・オ
 ンライン\n令和4年 8月9日(火) 〜 8月10日(水)\nアーカイフ
 ゙配信\n令和4年 8月9日(火) 〜 8月16日(火)\n\n\n\n\n
CATEGORIES:学習・評価委員会,観察・実験委員会,関連団体
 催
LOCATION:四日市市文化会館\, 安島2-5-3\, 四日市市\, 三重県\
 , 5100075\, 日本
X-APPLE-STRUCTURED-LOCATION;VALUE=URI;X-ADDRESS=安島2-5-3\, 四日市市\
 , 三重県\, 5100075\, 日本;X-APPLE-RADIUS=100;X-TITLE=四日市市文
 化会館:geo:0,0
END:VEVENT
BEGIN:VTIMEZONE
TZID:Asia/Tokyo
X-LIC-LOCATION:Asia/Tokyo
BEGIN:STANDARD
DTSTART:20210809T000000
TZOFFSETFROM:+0900
TZOFFSETTO:+0900
TZNAME:JST
END:STANDARD
END:VTIMEZONE
END:VCALENDAR