BEGIN:VCALENDAR
VERSION:2.0
PRODID:-//wp-events-plugin.com//7.2.3.1//EN
TZID:Asia/Tokyo
X-WR-TIMEZONE:Asia/Tokyo
BEGIN:VEVENT
UID:98@tochuri.net
DTSTART;TZID=Asia/Tokyo:20220803T091500
DTEND;TZID=Asia/Tokyo:20220803T163000
DTSTAMP:20220702T112455Z
URL:http://www.tochuri.net/events/%e4%bb%a4%e5%92%8c4%e5%b9%b4%e5%ba%a6%e8
 %a6%b3%e5%af%9f%e5%ae%9f%e9%a8%93%e5%a7%94%e5%93%a1%e4%bc%9a%e3%80%80%e7%8
 f%be%e5%9c%b0%e7%a0%94%e4%bf%ae%e4%bc%9a/
SUMMARY:令和4年度観察実験委員会　現地研修会
DESCRIPTION:[pdf-embedder url="http://www.tochuri.net/wp-content/uploads/20
 22/07/22kansatsu_kaki.pdf" title="令和4年度観察実験委員会　現
 地研修会　ご案内"]\n\n\n\n\n\n\n見学先\n\n 	住友化学株式
 会社 本社\n 	東洋製罐株式会社 横浜工場\n\n日程\n住友
 化学見学 → 昼食(同社食堂を利用予定) → 貸切バス
 移動 → 東洋製罐見学 → 貸切バス移動 → JR品川駅周
 辺解散\n\n\n\n
CATEGORIES:観察・実験委員会
END:VEVENT
BEGIN:VTIMEZONE
TZID:Asia/Tokyo
X-LIC-LOCATION:Asia/Tokyo
BEGIN:STANDARD
DTSTART:20210803T091500
TZOFFSETFROM:+0900
TZOFFSETTO:+0900
TZNAME:JST
END:STANDARD
END:VTIMEZONE
END:VCALENDAR