BEGIN:VCALENDAR
VERSION:2.0
PRODID:-//wp-events-plugin.com//7.2.3.1//EN
TZID:Asia/Tokyo
X-WR-TIMEZONE:Asia/Tokyo
BEGIN:VEVENT
UID:85@tochuri.net
DTSTART;TZID=Asia/Tokyo:20220218T153000
DTEND;TZID=Asia/Tokyo:20220218T170000
DTSTAMP:20220211T003831Z
URL:http://www.tochuri.net/events/%e7%ac%ac6%e5%9b%9e%e5%bd%b9%e5%93%a1%e4
 %bc%9a%e3%83%bb%e4%bb%a3%e8%a1%a8%e7%90%86%e4%ba%8b%e4%bc%9a/
SUMMARY:令和3年度第6回役員会・代表理事会
DESCRIPTION:配布文書\n[pdf-embedder url="http://www.tochuri.net/wp-cont
 ent/uploads/2022/02/21yakuin06-0218.pdf" title="令和3年度第6回役員
 会"]\n\n\n\n内容\n\n 	会長挨拶\n 	全中理より\n 	各部会・
 委員会等の年間活動報告と次年度の活動について\n 	各
 地区の活動状況の情報交換および研修\n 	その他　事務
 連絡\n
CATEGORIES:役員会・理事会
END:VEVENT
BEGIN:VTIMEZONE
TZID:Asia/Tokyo
X-LIC-LOCATION:Asia/Tokyo
BEGIN:STANDARD
DTSTART:20210218T153000
TZOFFSETFROM:+0900
TZOFFSETTO:+0900
TZNAME:JST
END:STANDARD
END:VTIMEZONE
END:VCALENDAR