BEGIN:VCALENDAR
VERSION:2.0
PRODID:-//wp-events-plugin.com//7.2.3.1//EN
TZID:Asia/Tokyo
X-WR-TIMEZONE:Asia/Tokyo
BEGIN:VEVENT
UID:67@tochuri.net
DTSTART;TZID=Asia/Tokyo;VALUE=DATE:20210728
DTEND;TZID=Asia/Tokyo;VALUE=DATE:20210730
DTSTAMP:20210625T032557Z
URL:http://www.tochuri.net/events/%e7%ac%ac68%e5%9b%9e%e5%85%a8%e5%9b%bd%e
 4%b8%ad%e5%ad%a6%e6%a0%a1%e7%90%86%e7%a7%91%e6%95%99%e8%82%b2%e7%a0%94%e7%
 a9%b6%e4%bc%9a%e3%80%80%e5%ba%83%e5%b3%b6%e5%a4%a7%e4%bc%9a/
SUMMARY:第68回全国中学校理科教育研究会　広島大会
DESCRIPTION:第57回中国四国中学校理科教育研究会／第65回
 広島県中学校理科教育研究大会\n\n\n\n今年度はリモート
 開催です\n\nオンライン開催：７月２８日（水）・２９
 日（木）\n\nオンデマンド配信：８月２日（月）～３１
 日（火）※参加申込が必要です。\n\n\n\n研究主題\n理科
 の見方・考え方を働かせて資質・能力を育み、豊かな
 未来を切り拓く理科教育\n大会主題\n主体的・対話的で
 深い学びの実現を通して、科学的に探究するために必
 要な資質・能力を育む理科教育
CATEGORIES:全中理,教育課程委員会,環境教育委員会,観察・
 実験委員会,関連団体主催
END:VEVENT
BEGIN:VTIMEZONE
TZID:Asia/Tokyo
X-LIC-LOCATION:Asia/Tokyo
BEGIN:STANDARD
DTSTART:20200728T000000
TZOFFSETFROM:+0900
TZOFFSETTO:+0900
TZNAME:JST
END:STANDARD
END:VTIMEZONE
END:VCALENDAR