BEGIN:VCALENDAR
VERSION:2.0
PRODID:-//wp-events-plugin.com//7.2.3.1//EN
TZID:Asia/Tokyo
X-WR-TIMEZONE:Asia/Tokyo
BEGIN:VEVENT
UID:134@tochuri.net
DTSTART;TZID=Asia/Tokyo:20250106T140000
DTEND;TZID=Asia/Tokyo:20250106T170000
DTSTAMP:20241106T042445Z
URL:http://www.tochuri.net/events/24jitsugi-ken1106/
SUMMARY:令和6年度観察・実験委員会　放射線教育に関する
 実技研修会
DESCRIPTION:配布文書\n[pdf-embedder url="http://www.tochuri.net/wp-cont
 ent/uploads/2024/11/24jitsugi-ken1105_annai.pdf" title="令和6年度観
 察・実験委員会　放射線教育に関する実技研修会　お
 知らせ"]\n\n放射線に関する実技研修会　お知らせ\n\n\n\n
 内容\n\n 	特性実験セットを利用した放射線の測定実験\n
  	真空放電管・ＷＥＢカメラ、霧箱等を利用した放射線
 の測定・飛跡の観察\n 	第２・３学年で行う放射線に関
 する学習の単元計画の紹介\n 	原子力発電環境整備機構
 （ＮＵＭＯ）職員による出前授業や中学生向け教材の
 紹介、ベントナイトによる放射性物質の吸着モデル実
 験\n 	日本原子力産業協会による施設見学会等の紹介\n\n
 備考\n\n 	定員は４０名です。定員に達し次第、募集を
 締め切ります。\n 	参加申し込みで入力していただいた
 情報は、当研修会の連絡用名簿としてのみ使用いたし
 ます。終了後、当委員会にて１か月間保管したのち、
 速やかに破棄いたします。\n
CATEGORIES:観察・実験委員会
LOCATION:葛飾区立科学教育センター「未来わくわく館」\, 
 新宿6-3-2\, 葛飾区\, 東京都\, 1250051\, 日本
X-APPLE-STRUCTURED-LOCATION;VALUE=URI;X-ADDRESS=新宿6-3-2\, 葛飾区\, 
 東京都\, 1250051\, 日本;X-APPLE-RADIUS=100;X-TITLE=葛飾区立科学
 教育センター「未来わくわく館」:geo:0,0
END:VEVENT
BEGIN:VTIMEZONE
TZID:Asia/Tokyo
X-LIC-LOCATION:Asia/Tokyo
BEGIN:STANDARD
DTSTART:20240107T140000
TZOFFSETFROM:+0900
TZOFFSETTO:+0900
TZNAME:JST
END:STANDARD
END:VTIMEZONE
END:VCALENDAR