BEGIN:VCALENDAR
VERSION:2.0
PRODID:-//wp-events-plugin.com//7.2.3.1//EN
TZID:Asia/Tokyo
X-WR-TIMEZONE:Asia/Tokyo
BEGIN:VEVENT
UID:123@tochuri.net
DTSTART;TZID=Asia/Tokyo:20240822T130000
DTEND;TZID=Asia/Tokyo:20240822T170000
DTSTAMP:20240819T131257Z
URL:http://www.tochuri.net/events/24kaki/
SUMMARY:令和6年度夏季研修会
DESCRIPTION:配布文書\n[pdf-embedder url="http://www.tochuri.net/wp-cont
 ent/uploads/2024/08/24kaki0822.pdf" title="令和6年度夏季研修会　
 開催通知"]\n\n夏季研修会　開催通知\n\n[pdf-embedder url="htt
 p://www.tochuri.net/wp-content/uploads/2024/07/24summer0822_program.pdf" t
 itle="令和6年度夏季研修会　プログラム"]\n\nプログラム\
 n\n\n\nプログラム\n\n 	開会式　午後１時００分～午後１
 時１０ 分\n\n 	都中理会長挨拶\n 	事務連絡（研修部副部
 長）\n\n\n 	講座（①または②を選択） 午後３時１０分 
 ～午後４時２０ 分\n\n 	講座１　武蔵野大学 教育学部 
 教育学科 准教授 飯田 和也 先生\n\n 	テーマ 「 地域教
 材の 3DCG 教材化〜一人一台端末を利用した地形と地層
 の3DCG 教材開発〜 」\n 	PC 端末 を お 持 ち い た だ け 
 る と 教材 作成 を 行 う こ と が で き ま す。\n\n\n 	
 講座２　東京学芸大学附属世田谷中学校　河野 晃 先生
 \n\n 	講演テーマ1「中学 2 年、生物単元で行う「生徒が
 先生」の授業実践」\n 	講演テーマ2「マイフィールド～
 お気軽継続観察の実践～」\n\n\n 	閉会式 午後４時２０
 分～\n\n 	アンケート記入\n 	事務連絡\n\n\n\n\n\nその他\n\n
  	参加者名簿を用意します。 押印をお願いします。\n 	
 研修会場ではあらかじめ用意 された 名札をお付けくだ
 さい。\n 	指定された場所への立ち入りはご遠慮くださ
 い。\n 	研修修了証を発行しますので 、研修報告をする
 際に所属校の管理職に御提出ください。\n\n 	\n\n\n
CATEGORIES:研修会
LOCATION:豊島区立西巣鴨中学校\, 南大塚3-18-1\, 豊島区\, 東
 京都\, 1700005\, 日本
X-APPLE-STRUCTURED-LOCATION;VALUE=URI;X-ADDRESS=南大塚3-18-1\, 豊島区
 \, 東京都\, 1700005\, 日本;X-APPLE-RADIUS=100;X-TITLE=豊島区立西
 巣鴨中学校:geo:0,0
END:VEVENT
BEGIN:VTIMEZONE
TZID:Asia/Tokyo
X-LIC-LOCATION:Asia/Tokyo
BEGIN:STANDARD
DTSTART:20230823T130000
TZOFFSETFROM:+0900
TZOFFSETTO:+0900
TZNAME:JST
END:STANDARD
END:VTIMEZONE
END:VCALENDAR