BEGIN:VCALENDAR
VERSION:2.0
PRODID:-//wp-events-plugin.com//7.2.3.1//EN
TZID:Asia/Tokyo
X-WR-TIMEZONE:Asia/Tokyo
BEGIN:VEVENT
UID:135@tochuri.net
DTSTART;TZID=Asia/Tokyo:20241226T130000
DTEND;TZID=Asia/Tokyo:20241226T164500
DTSTAMP:20241116T070329Z
URL:http://www.tochuri.net/events/24kenshu-winter/
SUMMARY:令和6年度冬季研修会
DESCRIPTION:配布資料\n[pdf-embedder url="http://www.tochuri.net/wp-cont
 ent/uploads/2024/11/24kenshu-winter1226.pdf" title="令和6年度冬季研
 修会　開催通知"]\n\n開催通知\n\n\n\nプログラム\n\n 	開会
 式\n 	講演「題未定」文部科学省 国立教育政策研究所　
 教育課程研究センター 研究開発部　学力調査官・教育
 課程調査官　佐々木 修一 先生\n 	研修講座１\n\n 	実験
 を安全に行うためには〔化学〕（理科室の安全）　東
 京学芸大学理科教員高度支援センター専門研究員　木
 村 裕子 先生\n 	簡単に作れるオームの法則実験キット
 〔物理〕　町田市立南中学校　大西 孝 先生\n\n\n 	研修
 講座２\n\n 	「葉の働きについて、ICT によるデータ収集
 とその活用」　世田谷区立駒沢中学校　内藤 理恵 先生
 \n 	簡単に作れるオームの法則実験キット〔物理〕　町
 田市立南中学校　大西 孝 先生\n\n\n 	教材開発コンテス
 ト\n 	閉会式\n
CATEGORIES:研修会
LOCATION:新宿区立西戸山中学校\, 百人町4-3-1\, 新宿区\, 東
 京都\, 1690073\, 日本
X-APPLE-STRUCTURED-LOCATION;VALUE=URI;X-ADDRESS=百人町4-3-1\, 新宿区\
 , 東京都\, 1690073\, 日本;X-APPLE-RADIUS=100;X-TITLE=新宿区立西
 戸山中学校:geo:0,0
END:VEVENT
BEGIN:VTIMEZONE
TZID:Asia/Tokyo
X-LIC-LOCATION:Asia/Tokyo
BEGIN:STANDARD
DTSTART:20231227T130000
TZOFFSETFROM:+0900
TZOFFSETTO:+0900
TZNAME:JST
END:STANDARD
END:VTIMEZONE
END:VCALENDAR