BEGIN:VCALENDAR
VERSION:2.0
PRODID:-//wp-events-plugin.com//7.2.3.1//EN
TZID:Asia/Tokyo
X-WR-TIMEZONE:Asia/Tokyo
BEGIN:VEVENT
UID:131@tochuri.net
DTSTART;TZID=Asia/Tokyo:20241115T171500
DTEND;TZID=Asia/Tokyo:20241115T210000
DTSTAMP:20241021T063338Z
URL:http://www.tochuri.net/events/24konshin/
SUMMARY:令和６年度懇親会
DESCRIPTION:[pdf-embedder url="http://www.tochuri.net/wp-content/uploads/20
 24/10/24kaiinken-konshin.pdf" title="令和6年度懇親会"]\n\n懇親会
 のご案内
CATEGORIES:会員研究発表会,懇親会
LOCATION:居酒屋ちかっぱ\, 南大塚３－５３－７\, 豊島区\, 
 東京都\, 1700005\, 日本
X-APPLE-STRUCTURED-LOCATION;VALUE=URI;X-ADDRESS=南大塚３－５３－７
 \, 豊島区\, 東京都\, 1700005\, 日本;X-APPLE-RADIUS=100;X-TITLE=居
 酒屋ちかっぱ:geo:0,0
END:VEVENT
BEGIN:VTIMEZONE
TZID:Asia/Tokyo
X-LIC-LOCATION:Asia/Tokyo
BEGIN:STANDARD
DTSTART:20231116T171500
TZOFFSETFROM:+0900
TZOFFSETTO:+0900
TZNAME:JST
END:STANDARD
END:VTIMEZONE
END:VCALENDAR