BEGIN:VCALENDAR
VERSION:2.0
PRODID:-//wp-events-plugin.com//7.2.3.1//EN
TZID:Asia/Tokyo
X-WR-TIMEZONE:Asia/Tokyo
BEGIN:VEVENT
UID:130@tochuri.net
DTSTART;TZID=Asia/Tokyo:20250119T130000
DTEND;TZID=Asia/Tokyo:20250119T170000
DTSTAMP:20241208T222837Z
URL:http://www.tochuri.net/events/24seito/
SUMMARY:令和6年度生徒研究発表会
DESCRIPTION:配布文書\n[pdf-embedder url="http://www.tochuri.net/wp-cont
 ent/uploads/2024/12/24seito-ken1.pdf" title="令和6年度生徒研究発
 表会　ご案内"]\n\n令和6年度生徒研究発表会　ご案内\n\n
 [pdf-embedder url="http://www.tochuri.net/wp-content/uploads/2024/12/24sei
 to-ken2.pdf" title="令和6年度生徒研究発表会　出張依頼"]\n\
 n令和6年度生徒研究発表会　出張依頼\n\n\n\n[pdf-embedder ur
 l="http://www.tochuri.net/wp-content/uploads/2024/08/24seito-ken0119-2.pdf
 " title="令和6年度生徒研究発表会　開催通知"]\n\n令和6年
 度生徒研究発表会　応募票\n\n\n\n&nbsp\;
CATEGORIES:生徒研究発表会,研究部
LOCATION:豊島区立西巣鴨中学校\, 南大塚3-18-1\, 豊島区\, 東
 京都\, 1700005\, 日本
X-APPLE-STRUCTURED-LOCATION;VALUE=URI;X-ADDRESS=南大塚3-18-1\, 豊島区
 \, 東京都\, 1700005\, 日本;X-APPLE-RADIUS=100;X-TITLE=豊島区立西
 巣鴨中学校:geo:0,0
END:VEVENT
BEGIN:VTIMEZONE
TZID:Asia/Tokyo
X-LIC-LOCATION:Asia/Tokyo
BEGIN:STANDARD
DTSTART:20240120T130000
TZOFFSETFROM:+0900
TZOFFSETTO:+0900
TZNAME:JST
END:STANDARD
END:VTIMEZONE
END:VCALENDAR