BEGIN:VCALENDAR
VERSION:2.0
PRODID:-//wp-events-plugin.com//7.2.3.1//EN
TZID:Asia/Tokyo
X-WR-TIMEZONE:Asia/Tokyo
BEGIN:VEVENT
UID:132@tochuri.net
DTSTART;TZID=Asia/Tokyo;VALUE=DATE:20241226
DTEND;TZID=Asia/Tokyo;VALUE=DATE:20241227
DTSTAMP:20241021T062657Z
URL:http://www.tochuri.net/events/24tm-contest/
SUMMARY:令和6年度教材コンテスト
DESCRIPTION:[pdf-embedder url="http://www.tochuri.net/wp-content/uploads/20
 24/10/24tm-contest.pdf" title="令和6年度開発教材コンテスト"]\
 n\n開催のご案内（応募票付き）
CATEGORIES:研修会,開発教材コンテスト
LOCATION:新宿区立西戸山中学校\, 百人町4-3-1\, 新宿区\, 東
 京都\, 1690073\, 日本
X-APPLE-STRUCTURED-LOCATION;VALUE=URI;X-ADDRESS=百人町4-3-1\, 新宿区\
 , 東京都\, 1690073\, 日本;X-APPLE-RADIUS=100;X-TITLE=新宿区立西
 戸山中学校:geo:0,0
END:VEVENT
BEGIN:VTIMEZONE
TZID:Asia/Tokyo
X-LIC-LOCATION:Asia/Tokyo
BEGIN:STANDARD
DTSTART:20231227T000000
TZOFFSETFROM:+0900
TZOFFSETTO:+0900
TZNAME:JST
END:STANDARD
END:VTIMEZONE
END:VCALENDAR