BEGIN:VCALENDAR
VERSION:2.0
PRODID:-//wp-events-plugin.com//7.2.3.1//EN
TZID:Asia/Tokyo
X-WR-TIMEZONE:Asia/Tokyo
BEGIN:VEVENT
UID:133@tochuri.net
DTSTART;TZID=Asia/Tokyo:20241115T130000
DTEND;TZID=Asia/Tokyo:20241115T140000
DTSTAMP:20241021T062945Z
URL:http://www.tochuri.net/events/24yakuin1115/
SUMMARY:令和6年度第4回役員会・研修会
DESCRIPTION:[pdf-embedder url="http://www.tochuri.net/wp-content/uploads/20
 24/10/24yakuin1115.pdf" title="令和6年度第4回役員会・研修会
 　開催通知"]\n\n第4回役員会・研修会　開催のご案内
CATEGORIES:事務局,会員研究発表会,博物館連携推進委員会,
 学習・評価委員会,広報部,役員会・理事会,教育課程委
 会,環境教育委員会,研修部,研究部,観察・実験委員会
LOCATION:豊島区立西巣鴨中学校\, 南大塚3-18-1\, 豊島区\, 東
 京都\, 1700005\, 日本
X-APPLE-STRUCTURED-LOCATION;VALUE=URI;X-ADDRESS=南大塚3-18-1\, 豊島区
 \, 東京都\, 1700005\, 日本;X-APPLE-RADIUS=100;X-TITLE=豊島区立西
 巣鴨中学校:geo:0,0
END:VEVENT
BEGIN:VTIMEZONE
TZID:Asia/Tokyo
X-LIC-LOCATION:Asia/Tokyo
BEGIN:STANDARD
DTSTART:20231116T130000
TZOFFSETFROM:+0900
TZOFFSETTO:+0900
TZNAME:JST
END:STANDARD
END:VTIMEZONE
END:VCALENDAR