BEGIN:VCALENDAR
VERSION:2.0
PRODID:-//wp-events-plugin.com//7.2.3.1//EN
TZID:Asia/Tokyo
X-WR-TIMEZONE:Asia/Tokyo
BEGIN:VEVENT
UID:149@tochuri.net
DTSTART;TZID=Asia/Tokyo:20250827T095000
DTEND;TZID=Asia/Tokyo:20250827T120000
DTSTAMP:20250716T082147Z
URL:http://www.tochuri.net/events/25gakuseta0827/
SUMMARY:令和7年度東京学芸大学附属世田谷中学校　理科　
 現職研修
DESCRIPTION:配布文書\n[pdf-embedder url="http://www.tochuri.net/wp-cont
 ent/uploads/2025/07/25gakuseta0827.pdf" title="令和7年度東京学芸
 大学附属世田谷中学校　理科　現職研修"]\n\n\n\n内容\n\n
  	実験講座①「安全に実験を指導する‐硫化水素試験紙
 を用いて‐」９：００～１０：００\n\n 	講師 東京学芸
 大学附属世田谷中学校 主幹教諭 河野 晃\n\n\n 	実験講座
 ②「食物の消化実験の学習指導を充実させるための工
 夫」１０：２０～１１：２０\n\n 	講師 東京学芸大学附
 属世田谷中学校 教諭 川島 紀子\n\n\n 	意見交換会（理科
 の指導法、実験観察、理科室経営等）１１：２０～１
 １：５０\n\n\n 	実験講座①と②の間の休憩時間には、株
 式会社ナリカ様より教材紹介があります\n
CATEGORIES:その他理科関係イベント
LOCATION:東京学芸大学附属世田谷中学校\, 深沢４－３－１
 \, 世田谷区\, 東京都\, 1580081\, 日本
X-APPLE-STRUCTURED-LOCATION;VALUE=URI;X-ADDRESS=深沢４－３－１\, 世
 田谷区\, 東京都\, 1580081\, 日本;X-APPLE-RADIUS=100;X-TITLE=東京
 学芸大学附属世田谷中学校:geo:0,0
END:VEVENT
BEGIN:VTIMEZONE
TZID:Asia/Tokyo
X-LIC-LOCATION:Asia/Tokyo
BEGIN:STANDARD
DTSTART:20240827T095000
TZOFFSETFROM:+0900
TZOFFSETTO:+0900
TZNAME:JST
END:STANDARD
END:VTIMEZONE
END:VCALENDAR