BEGIN:VCALENDAR
VERSION:2.0
PRODID:-//wp-events-plugin.com//7.2.3.1//EN
TZID:Asia/Tokyo
X-WR-TIMEZONE:Asia/Tokyo
BEGIN:VEVENT
UID:146@tochuri.net
DTSTART;TZID=Asia/Tokyo:20250801T083000
DTEND;TZID=Asia/Tokyo:20250801T153000
DTSTAMP:20250617T201402Z
URL:http://www.tochuri.net/events/25genchi0801/
SUMMARY:令和7年度観察実験委員会　現地研修会
DESCRIPTION:[pdf-embedder url="http://www.tochuri.net/wp-content/uploads/20
 25/06/25kansatsu_genchi0801.pdf" title="令和7年度観察実験委員会
 　現地研修会　開催通知"]\n\n\n\n見学先\n\n 	株式会社エ
 フピコhttps://www.fpco.jp/about.html\n 	関東エコペット工場、
 関東リサイクル工場\n 	茨城県結城郡八千代町大字平塚4
 458-1\n\n募集人数\n都中理会員３０名（先着順 人数には
 本委員会運営スタッフを含みます）他にプラスチック
 教育連絡会関係者も参加します。\n\n集合\n\n 	午前８時
 ３０分\n 	東京駅周辺（参加決定者にはメールにて詳細
 を連絡します。）\n\n解散\n\n 	午後４時３０分頃 北千住
 駅周辺（JR常磐線 東武スカイツリーライン つくばエク
 スプレス 東京メトロ日比谷線）（希望者はJR宇都宮線/
 東武伊勢崎線 久喜駅にて下車可能）\n\n内容\n\n 	貸切バ
 スで移動 エフピコ 関東エコペット工場 関東リサイク
 ル工場（PETボトル、シート、トレー等のリサイクル製
 造ライン）\n\n参加費\n昼食代として９５０円を徴収（
 当日）
CATEGORIES:観察・実験委員会
END:VEVENT
BEGIN:VTIMEZONE
TZID:Asia/Tokyo
X-LIC-LOCATION:Asia/Tokyo
BEGIN:STANDARD
DTSTART:20240801T083000
TZOFFSETFROM:+0900
TZOFFSETTO:+0900
TZNAME:JST
END:STANDARD
END:VTIMEZONE
END:VCALENDAR