BEGIN:VCALENDAR
VERSION:2.0
PRODID:-//wp-events-plugin.com//7.2.3.1//EN
TZID:Asia/Tokyo
X-WR-TIMEZONE:Asia/Tokyo
BEGIN:VEVENT
UID:148@tochuri.net
DTSTART;TZID=Asia/Tokyo:20250822T130000
DTEND;TZID=Asia/Tokyo:20250822T163000
DTSTAMP:20250630T154209Z
URL:http://www.tochuri.net/events/25kaki/
SUMMARY:令和7年度夏季研修会
DESCRIPTION:配布文書\n[pdf-embedder url="http://www.tochuri.net/wp-cont
 ent/uploads/2025/07/25kaki0822.pdf" title="令和7年度夏季研修会　
 開催通知"]\n\n\n\n&nbsp\;
CATEGORIES:研修部
LOCATION:豊島区立千川中学校\, 千早2-39-16\, 豊島区\, 東京
 都\, 1710044\, 日本
X-APPLE-STRUCTURED-LOCATION;VALUE=URI;X-ADDRESS=千早2-39-16\, 豊島区\,
  東京都\, 1710044\, 日本;X-APPLE-RADIUS=100;X-TITLE=豊島区立千
 川中学校:geo:0,0
END:VEVENT
BEGIN:VTIMEZONE
TZID:Asia/Tokyo
X-LIC-LOCATION:Asia/Tokyo
BEGIN:STANDARD
DTSTART:20240822T130000
TZOFFSETFROM:+0900
TZOFFSETTO:+0900
TZNAME:JST
END:STANDARD
END:VTIMEZONE
END:VCALENDAR