BEGIN:VCALENDAR
VERSION:2.0
PRODID:-//wp-events-plugin.com//7.2.3.1//EN
TZID:Asia/Tokyo
X-WR-TIMEZONE:Asia/Tokyo
BEGIN:VEVENT
UID:154@tochuri.net
DTSTART;TZID=Asia/Tokyo:20250701T154500
DTEND;TZID=Asia/Tokyo:20250701T163000
DTSTAMP:20250728T015802Z
URL:http://www.tochuri.net/events/25katei03/
SUMMARY:令和7年度第3回教育課程委員会
DESCRIPTION:配布文書\n[pdf-embedder url="http://www.tochuri.net/wp-cont
 ent/uploads/2025/07/25katei03_0701.pdf.pdf"]\n\n\n\n持ち物\n\n 	所属
 中学校の年間計画表１部\n 	事前に集約し送付した生徒
 アンケート原案１部各自\n\n内容\n\n 	生徒アンケート項
 目検討\n 	令和７年８月調布市立神代中学校の参集開催
 日程決定\n
CATEGORIES:教育課程委員会
END:VEVENT
BEGIN:VTIMEZONE
TZID:Asia/Tokyo
X-LIC-LOCATION:Asia/Tokyo
BEGIN:STANDARD
DTSTART:20240701T154500
TZOFFSETFROM:+0900
TZOFFSETTO:+0900
TZNAME:JST
END:STANDARD
END:VTIMEZONE
END:VCALENDAR