BEGIN:VCALENDAR
VERSION:2.0
PRODID:-//wp-events-plugin.com//7.2.3.1//EN
TZID:Asia/Tokyo
X-WR-TIMEZONE:Asia/Tokyo
BEGIN:VEVENT
UID:153@tochuri.net
DTSTART;TZID=Asia/Tokyo:20250806T133000
DTEND;TZID=Asia/Tokyo:20250806T164500
DTSTAMP:20250728T015226Z
URL:http://www.tochuri.net/events/25katei04/
SUMMARY:令和7年度第4回教育課程委員会
DESCRIPTION:配布文書\n[pdf-embedder url="http://www.tochuri.net/wp-cont
 ent/uploads/2025/07/25katei04_0806.pdf.pdf"]\n\n\n\n持ち物\n\n 	各研
 修部員が必要だと思う資料\n 	例えば、現行学習指導要
 領解説理科編等\n\n内容\n\n 	７月期アンケート結果の分
 析 … 全員で\n 	研究主題決定 … 全員で\n 	研究構想図
 の分担決定 … ２名想定\n 	原稿作成分担決定 … １名想
 定\n 	スライド作成分担決定 … １名想定\n 	９月実践研
 究Ⅰ 調布市立神代中学校の授業案検討 … 全員で\n 	９
 月授業研究日決定 調布市立神代中学校 … 全員で\n
CATEGORIES:教育課程委員会
LOCATION:調布市立神代中学校\, 佐須町5丁目26-1\, 調布市\, 
 東京都\, 1820016\, 日本
X-APPLE-STRUCTURED-LOCATION;VALUE=URI;X-ADDRESS=佐須町5丁目26-1\, 調
 布市\, 東京都\, 1820016\, 日本;X-APPLE-RADIUS=100;X-TITLE=調布市
 立神代中学校:geo:0,0
END:VEVENT
BEGIN:VTIMEZONE
TZID:Asia/Tokyo
X-LIC-LOCATION:Asia/Tokyo
BEGIN:STANDARD
DTSTART:20240806T133000
TZOFFSETFROM:+0900
TZOFFSETTO:+0900
TZNAME:JST
END:STANDARD
END:VTIMEZONE
END:VCALENDAR