BEGIN:VCALENDAR
VERSION:2.0
PRODID:-//wp-events-plugin.com//7.2.3.1//EN
TZID:Asia/Tokyo
X-WR-TIMEZONE:Asia/Tokyo
BEGIN:VEVENT
UID:151@tochuri.net
DTSTART;TZID=Asia/Tokyo:20250907T123000
DTEND;TZID=Asia/Tokyo:20250907T163000
DTSTAMP:20250716T225312Z
URL:http://www.tochuri.net/events/25riken0907/
SUMMARY:理化学研究所 科学講演会2025「No 量子\, No Life！-量
 子科学がつくる未来の技術-」
DESCRIPTION:[pdf-embedder url="http://www.tochuri.net/wp-content/uploads/20
 25/07/25riken0907.pdf" title="理化学研究所 科学講演会2025「No 
 量子\, No Life！-量子科学がつくる未来の技術-」リーフ
 レット"]\n\n詳しくはリーフレット、ホームページをご
 覧ください
CATEGORIES:その他理科関係イベント
LOCATION:日本科学未来館\, 青海２丁目３−６\, 江東区\, 東
 京都\, 1350064\, 日本
X-APPLE-STRUCTURED-LOCATION;VALUE=URI;X-ADDRESS=青海２丁目３−６\, 
 江東区\, 東京都\, 1350064\, 日本;X-APPLE-RADIUS=100;X-TITLE=日本
 科学未来館:geo:0,0
END:VEVENT
BEGIN:VTIMEZONE
TZID:Asia/Tokyo
X-LIC-LOCATION:Asia/Tokyo
BEGIN:STANDARD
DTSTART:20240907T123000
TZOFFSETFROM:+0900
TZOFFSETTO:+0900
TZNAME:JST
END:STANDARD
END:VTIMEZONE
END:VCALENDAR