BEGIN:VCALENDAR
VERSION:2.0
PRODID:-//wp-events-plugin.com//7.2.3.1//EN
TZID:Asia/Tokyo
X-WR-TIMEZONE:Asia/Tokyo
BEGIN:VEVENT
UID:158@tochuri.net
DTSTART;TZID=Asia/Tokyo:20250823T110000
DTEND;TZID=Asia/Tokyo:20250823T130000
DTSTAMP:20250812T022839Z
URL:http://www.tochuri.net/events/25sjst_secr/
SUMMARY:第10回「理科の教育」誌公開編集委員会（対面・
 学会内）
DESCRIPTION:配布文書\n[pdf-embedder url="http://www.tochuri.net/wp-cont
 ent/uploads/2025/08/25sjst_sec.pdf" title="第10回「理科の教育」
 誌公開編集委員会のお誘い"]\n\n\n\n&nbsp\;
CATEGORIES:その他理科関係イベント
END:VEVENT
BEGIN:VTIMEZONE
TZID:Asia/Tokyo
X-LIC-LOCATION:Asia/Tokyo
BEGIN:STANDARD
DTSTART:20240823T110000
TZOFFSETFROM:+0900
TZOFFSETTO:+0900
TZNAME:JST
END:STANDARD
END:VTIMEZONE
END:VCALENDAR