BEGIN:VCALENDAR
VERSION:2.0
PRODID:-//wp-events-plugin.com//7.2.3.1//EN
TZID:Asia/Tokyo
X-WR-TIMEZONE:Asia/Tokyo
BEGIN:VEVENT
UID:143@tochuri.net
DTSTART;TZID=Asia/Tokyo:20250606T150000
DTEND;TZID=Asia/Tokyo:20250606T170000
DTSTAMP:20250601T054206Z
URL:http://www.tochuri.net/events/25yakuin02/
SUMMARY:令和7年度第2回役員会・研修会
DESCRIPTION:[pdf-embedder url="http://www.tochuri.net/wp-content/uploads/20
 25/06/25yakuin02_0606.pdf" title="令和7年度第2回役員会　開催
 通知"]\n\n\n\n内 容\n\n 	都中理会長あいさつ\n 	全中理よ
 り\n 	各部会、委員会より\n 	全中理北海道大会分科会発
 表についての意見交換（研修）等\n 	各地区情報交換（
 研修）、事務連絡\n\nそ の 他\n\n 	印鑑をご持参くださ
 い（当研究会が出席管理を行います） 。\n 	都中理役員
 ：会長、副会長、参与、部長、委員長、事務局\n 	部長
 、委員長がご欠席の場合、可能であれば副部長、副委
 員長の出席をお願いします。\n 	配布資料がある場合、
 印刷して ５０ 部ご持参ください。\n
CATEGORIES:事務局,博物館連携推進委員会,学習・評価委員
 ,役員会・理事会,教育課程委員会,環境教育委員会,研
 部,研究部,観察・実験委員会
LOCATION:豊島区立西巣鴨中学校\, 南大塚3-18-1\, 豊島区\, 東
 京都\, 1700005\, 日本
X-APPLE-STRUCTURED-LOCATION;VALUE=URI;X-ADDRESS=南大塚3-18-1\, 豊島区
 \, 東京都\, 1700005\, 日本;X-APPLE-RADIUS=100;X-TITLE=豊島区立西
 巣鴨中学校:geo:0,0
END:VEVENT
BEGIN:VTIMEZONE
TZID:Asia/Tokyo
X-LIC-LOCATION:Asia/Tokyo
BEGIN:STANDARD
DTSTART:20240606T150000
TZOFFSETFROM:+0900
TZOFFSETTO:+0900
TZNAME:JST
END:STANDARD
END:VTIMEZONE
END:VCALENDAR