BEGIN:VCALENDAR
VERSION:2.0
PRODID:-//wp-events-plugin.com//7.2.3.1//EN
TZID:Asia/Tokyo
X-WR-TIMEZONE:Asia/Tokyo
BEGIN:VEVENT
UID:159@tochuri.net
DTSTART;TZID=Asia/Tokyo:20250822T101500
DTEND;TZID=Asia/Tokyo:20250822T121500
DTSTAMP:20250814T121619Z
URL:http://www.tochuri.net/events/25yakuin03/
SUMMARY:令和7年度第3回役員会
DESCRIPTION:配布文書\n[pdf-embedder url="http://www.tochuri.net/wp-cont
 ent/uploads/2025/08/25yakuin03_0822.pdf" title="令和7年度第3回役員
 会　開催通知"]\n\n\n\n内容\n\n 	都中理会長あいさつ\n 	全
 中理より\n 	各部会、委員会より\n 	全中理北海道大会報
 告・情報共有（研修）\n 	今後の予定についての意見交
 換（研修）\n 	各地区情報交換（研修）、事務連絡\n\nそ
 の他\n\n 	印鑑をご持参ください（当研究会が出席管理
 を行います）\n 	都中理役員：会長、副会長、参与、部
 長、委員長、事務局部長、委員長がご欠席の場合、可
 能であれば副部長、副委員長の出席をお願いします\n 	
 配布資料がある場合、印刷して ５０ 部ご持参ください
 \n
CATEGORIES:役員会・理事会
LOCATION:豊島区立千川中学校\, 千早2-39-16\, 豊島区\, 東京
 都\, 1710044\, 日本
X-APPLE-STRUCTURED-LOCATION;VALUE=URI;X-ADDRESS=千早2-39-16\, 豊島区\,
  東京都\, 1710044\, 日本;X-APPLE-RADIUS=100;X-TITLE=豊島区立千
 川中学校:geo:0,0
END:VEVENT
BEGIN:VTIMEZONE
TZID:Asia/Tokyo
X-LIC-LOCATION:Asia/Tokyo
BEGIN:STANDARD
DTSTART:20240822T101500
TZOFFSETFROM:+0900
TZOFFSETTO:+0900
TZNAME:JST
END:STANDARD
END:VTIMEZONE
END:VCALENDAR