BEGIN:VCALENDAR
VERSION:2.0
PRODID:-//wp-events-plugin.com//7.2.3.1//EN
TZID:Asia/Tokyo
X-WR-TIMEZONE:Asia/Tokyo
BEGIN:VEVENT
UID:169@tochuri.net
DTSTART;TZID=Asia/Tokyo:20260226T150000
DTEND;TZID=Asia/Tokyo:20260226T170000
DTSTAMP:20260217T231346Z
URL:http://www.tochuri.net/events/25yakuin06/
SUMMARY:令和7年度第6回役員会・研修会
DESCRIPTION:[pdf-embedder url="http://www.tochuri.net/wp-content/uploads/20
 26/02/25yakuin06_0226.pdf" title="令和7年度第6回役員会・研修
 会　開催通知"]
CATEGORIES:役員会・理事会
LOCATION:豊島区立西巣鴨中学校\, 南大塚3-18-1\, 豊島区\, 東
 京都\, 1700005\, 日本
X-APPLE-STRUCTURED-LOCATION;VALUE=URI;X-ADDRESS=南大塚3-18-1\, 豊島区
 \, 東京都\, 1700005\, 日本;X-APPLE-RADIUS=100;X-TITLE=豊島区立西
 巣鴨中学校:geo:0,0
END:VEVENT
BEGIN:VTIMEZONE
TZID:Asia/Tokyo
X-LIC-LOCATION:Asia/Tokyo
BEGIN:STANDARD
DTSTART:20250226T150000
TZOFFSETFROM:+0900
TZOFFSETTO:+0900
TZNAME:JST
END:STANDARD
END:VTIMEZONE
END:VCALENDAR