BEGIN:VCALENDAR
VERSION:2.0
PRODID:-//wp-events-plugin.com//7.2.3.1//EN
TZID:Asia/Tokyo
X-WR-TIMEZONE:Asia/Tokyo
BEGIN:VEVENT
UID:172@tochuri.net
DTSTART;TZID=Asia/Tokyo:20260115T143000
DTEND;TZID=Asia/Tokyo:20260115T163000
DTSTAMP:20260107T132951Z
URL:http://www.tochuri.net/events/25yakuinex/
SUMMARY:令和7年度臨時研修会・役員会
DESCRIPTION:配布文書\n[pdf-embedder url="http://www.tochuri.net/wp-cont
 ent/uploads/2026/01/25yakuinex_0115.pdf" title="令和7年度臨時研修
 会・役員会　開催通知"]\n\n\n\n内 容\n\n 	都中理会長あい
 さつ\n 	委員会より\n 	意見交換（研修）\n\n 	今後の取組
 、検証方法、検証日程・検証校等について\n\n\n 	今後の
 予定（２月、５月、６月実施日の調整）について\n\nそ
 の他\n２月から６月までのご自身の予定表をご持参くだ
 さい。
CATEGORIES:役員会・理事会
LOCATION:豊島区立西巣鴨中学校\, 南大塚3-18-1\, 豊島区\, 東
 京都\, 1700005\, 日本
X-APPLE-STRUCTURED-LOCATION;VALUE=URI;X-ADDRESS=南大塚3-18-1\, 豊島区
 \, 東京都\, 1700005\, 日本;X-APPLE-RADIUS=100;X-TITLE=豊島区立西
 巣鴨中学校:geo:0,0
END:VEVENT
BEGIN:VTIMEZONE
TZID:Asia/Tokyo
X-LIC-LOCATION:Asia/Tokyo
BEGIN:STANDARD
DTSTART:20250115T143000
TZOFFSETFROM:+0900
TZOFFSETTO:+0900
TZNAME:JST
END:STANDARD
END:VTIMEZONE
END:VCALENDAR