BEGIN:VCALENDAR
VERSION:2.0
PRODID:-//wp-events-plugin.com//7.2.3.1//EN
TZID:Asia/Tokyo
X-WR-TIMEZONE:Asia/Tokyo
BEGIN:VEVENT
UID:144@tochuri.net
DTSTART;TZID=Asia/Tokyo;VALUE=DATE:20250806
DTEND;TZID=Asia/Tokyo;VALUE=DATE:20250809
DTSTAMP:20250601T091329Z
URL:http://www.tochuri.net/events/25zcr72/
SUMMARY:令和7年度第72回全国中学校理科教育研究会北海道
 大会
DESCRIPTION:[pdf-embedder url="http://www.tochuri.net/wp-content/uploads/20
 25/06/25zcr72_hokkaido.pdf" title="令和7年度第72回全国中学校理
 科教育研究会北海道大会　最終案内"]
CATEGORIES:全中理
LOCATION:札幌市教育文化会館\, 北１条西１３丁目７\, 札幌
 市中央区\, 北海道\, 0600001 \, 日本
X-APPLE-STRUCTURED-LOCATION;VALUE=URI;X-ADDRESS=北１条西１３丁目７
 \, 札幌市中央区\, 北海道\, 0600001 \, 日本;X-APPLE-RADIUS=100;X
 -TITLE=札幌市教育文化会館:geo:0,0
END:VEVENT
BEGIN:VTIMEZONE
TZID:Asia/Tokyo
X-LIC-LOCATION:Asia/Tokyo
BEGIN:STANDARD
DTSTART:20240806T000000
TZOFFSETFROM:+0900
TZOFFSETTO:+0900
TZNAME:JST
END:STANDARD
END:VTIMEZONE
END:VCALENDAR