BEGIN:VCALENDAR
VERSION:2.0
PRODID:-//wp-events-plugin.com//7.2.3.1//EN
TZID:Asia/Tokyo
X-WR-TIMEZONE:Asia/Tokyo
BEGIN:VEVENT
UID:152@tochuri.net
DTSTART;TZID=Asia/Tokyo:20250807T173000
DTEND;TZID=Asia/Tokyo:20250807T193000
DTSTAMP:20250725T025905Z
URL:http://www.tochuri.net/events/25zcr_konshin0807/
SUMMARY:令和7年度全中理北海道大会　都中理懇親会
DESCRIPTION:[pdf-embedder url="http://www.tochuri.net/wp-content/uploads/20
 25/07/25tcr_konshin0807.pdf" title="令和7年度全中理北海道大会
 　都中理懇親会　開催通知"]
CATEGORIES:全中理,懇親会
LOCATION:サッポロビール園\, 北７条東9-2-10\, 札幌市東区\, 
 北海道\, 0650007\, 日本
X-APPLE-STRUCTURED-LOCATION;VALUE=URI;X-ADDRESS=北７条東9-2-10\, 札幌
 市東区\, 北海道\, 0650007\, 日本;X-APPLE-RADIUS=100;X-TITLE=サッ
 ポロビール園:geo:0,0
END:VEVENT
BEGIN:VTIMEZONE
TZID:Asia/Tokyo
X-LIC-LOCATION:Asia/Tokyo
BEGIN:STANDARD
DTSTART:20240807T173000
TZOFFSETFROM:+0900
TZOFFSETTO:+0900
TZNAME:JST
END:STANDARD
END:VTIMEZONE
END:VCALENDAR