BEGIN:VCALENDAR
VERSION:2.0
PRODID:-//wp-events-plugin.com//7.2.3.1//EN
TZID:Asia/Tokyo
X-WR-TIMEZONE:Asia/Tokyo
BEGIN:VEVENT
UID:171@tochuri.net
DTSTART;TZID=Asia/Tokyo;VALUE=DATE:20260117
DTEND;TZID=Asia/Tokyo;VALUE=DATE:20260118
DTSTAMP:20260104T105307Z
URL:http://www.tochuri.net/events/event260117/
SUMMARY:東京から出土した文化財としての人骨
DESCRIPTION:主催：国立科学博物館附属自然教育園\n\n縄文
 時代から江戸時代にかけての、東京都の遺跡から発見
 された人骨標本の紹介と、実際に発掘された人骨から
 使って何がわかるのか、を実習形式で行う講座。\n\n申
 し込みと詳細は、\n\nhttps://ins.kahaku.go.jp/event/nid00003796.htm
 l#/\n\nをご覧ください。
CATEGORIES:その他理科関係イベント
END:VEVENT
BEGIN:VTIMEZONE
TZID:Asia/Tokyo
X-LIC-LOCATION:Asia/Tokyo
BEGIN:STANDARD
DTSTART:20250117T000000
TZOFFSETFROM:+0900
TZOFFSETTO:+0900
TZNAME:JST
END:STANDARD
END:VTIMEZONE
END:VCALENDAR