BEGIN:VCALENDAR
VERSION:2.0
PRODID:-//wp-events-plugin.com//7.2.3.1//EN
TZID:Asia/Tokyo
X-WR-TIMEZONE:Asia/Tokyo
BEGIN:VEVENT
UID:170@tochuri.net
DTSTART;TZID=Asia/Tokyo;VALUE=DATE:20260214
DTEND;TZID=Asia/Tokyo;VALUE=DATE:20260215
DTSTAMP:20260104T104804Z
URL:http://www.tochuri.net/events/event_geo260214/
SUMMARY:アウトリーチ巡検 「犬吠埼の生痕化石と堆積構造
 観察」
DESCRIPTION:主催：日本地質学会関東支部\n\n千葉大学の泉
 賢太郎准教授を講師として、千葉県の犬吠埼で生痕化
 石の観察する。\n\n申し込みと詳細は\n\nhttps://geosociety.jp
 /outline/content0201.html#2026out\n\nをご覧ください。
CATEGORIES:その他理科関係イベント
END:VEVENT
BEGIN:VTIMEZONE
TZID:Asia/Tokyo
X-LIC-LOCATION:Asia/Tokyo
BEGIN:STANDARD
DTSTART:20250214T000000
TZOFFSETFROM:+0900
TZOFFSETTO:+0900
TZNAME:JST
END:STANDARD
END:VTIMEZONE
END:VCALENDAR