BEGIN:VCALENDAR
VERSION:2.0
PRODID:-//wp-events-plugin.com//7.2.3.1//EN
TZID:Asia/Tokyo
X-WR-TIMEZONE:Asia/Tokyo
BEGIN:VEVENT
UID:147@tochuri.net
DTSTART;TZID=Asia/Tokyo;VALUE=DATE:20250729
DTEND;TZID=Asia/Tokyo;VALUE=DATE:20250802
DTSTAMP:20250623T220319Z
URL:http://www.tochuri.net/events/mft2025/
SUMMARY:教員のための博物館の日2025
DESCRIPTION:博物館によって開催日・時間は異なります。そ
 れぞれよくご確認ください。\n\n[pdf-embedder url="http://www.t
 ochuri.net/wp-content/uploads/2025/06/25museumforteacher.pdf" title="教
 員のための博物館の日2025　チラシ"]\n\n[pdf-embedder url="htt
 p://www.tochuri.net/wp-content/uploads/2025/06/25museumforteacher_n.pdf" t
 itle="教員のための博物館の日2025　チラシ　全国版"]
CATEGORIES:その他理科関係イベント,博物館連携推進委員
 
END:VEVENT
BEGIN:VTIMEZONE
TZID:Asia/Tokyo
X-LIC-LOCATION:Asia/Tokyo
BEGIN:STANDARD
DTSTART:20240729T000000
TZOFFSETFROM:+0900
TZOFFSETTO:+0900
TZNAME:JST
END:STANDARD
END:VTIMEZONE
END:VCALENDAR