BEGIN:VCALENDAR
VERSION:2.0
PRODID:-//wp-events-plugin.com//7.2.3.1//EN
TZID:Asia/Tokyo
X-WR-TIMEZONE:Asia/Tokyo
BEGIN:VEVENT
UID:126@tochuri.net
DTSTART;TZID=Asia/Tokyo:20241115T140000
DTEND;TZID=Asia/Tokyo:20241115T170000
DTSTAMP:20241113T224224Z
URL:http://www.tochuri.net/events/r06kaiin-ken/
SUMMARY:令和6年度会員研究発表会
DESCRIPTION:配布文書\n[pdf-embedder url="http://www.tochuri.net/wp-cont
 ent/uploads/2024/10/24kaiin-ken1115.pdf" title="令和6年度会員研究
 発表会　最終案内"]\n\n最終案内\n\n[pdf-embedder url="http://ww
 w.tochuri.net/wp-content/uploads/2024/07/24kaiin-ken-annai.pdf" title="令
 和6年度会員研究発表会　開催通知"]\n\n開催通知\n\n\n\n
 講師\n聖路加国際大学客員教授 兼 教職支援アドバイザ
 ー・東京理科大学非常勤講師　並木 正 先生\n発表会次
 第\n\n 	挨拶\n\n 	東京都中学校理科教育研究会長 鶴澤 伸
 一\n 	全国中学校理科教育研究会長 大熊 一正 様\n\n\n 	
 報告\n\n 	「 都中理博物館連携プロジェクトの新しい取
 り組み 」【博物館連携プロジェクト 】文京区立第六中
 学校 川島 紀子・世田谷区立駒沢中学校 内藤 理恵\n\n\n 
 	発表\n\n 	 「個に応じた学びの理科の授業展開につい
 て ～自由進度 学習のセクション設定～」足立区立竹の
 塚 中学校 藤本 博之\n\n 	[pdf-embedder url="http://www.tochuri.net
 /wp-content/uploads/2024/11/24kaiin-ken_01_1.pdf" title="令和6年度会
 員研究発表会１ー１"]\n 	配布資料\n 	[pdf-embedder url="http:/
 /www.tochuri.net/wp-content/uploads/2024/11/24kaiin-ken_01_2.pdf" title="
 令和6年度会員研究発表会１ー２"]\n 	スライド資料\n\n\n 
 	「自然への探究心を育てるマイフィールド実践」東京
 学芸大学附属世田谷中学校 河野 晃\n\n 	[pdf-embedder url="ht
 tp://www.tochuri.net/wp-content/uploads/2024/11/24kaiin-ken_02.pdf" title=
 "令和6年度会員研究発表会２"]\n 	配布資料\n\n\n 	「生徒
 が科学的に探究する資質・能力の育成 1 人 1 台端末の
 活用の効果～」【教育課程委員会】中野区立明和中学
 校 内藤 響\n\n 	[pdf-embedder url="http://www.tochuri.net/wp-content/u
 ploads/2024/11/24kaiin-ken_03.pdf" title="令和6年度会員研究発表
 会３"]\n 	配布資料\n\n\n 	「個別最適な学びの実現に向け
 た指導の工夫 ～ワンルーム習熟度別授業～」【学習指
 導・評価委員会 】府中市立府中第五中学校 若木 洋・
 豊島区立明豊中学校 松本 和記\n\n 	[pdf-embedder url="http://w
 ww.tochuri.net/wp-content/uploads/2024/11/24kaiin-ken_04_1.pdf" title="令
 和6年度会員研究発表会４ー１"]\n 	配布資料\n 	[pdf-embedde
 r url="http://www.tochuri.net/wp-content/uploads/2024/11/24kaiin-ken_04_2.
 pdf" title="令和6年度会員研究発表会４ー２"]\n 	スライド
 資料\n\n\n\n\n 	質疑・応答\n 	講評\n\n 	聖路加国際大学 客
 員教授 兼 教職支援アドバイザー・東京理科大学非常勤
 講師　並木 正 先生\n\n\n\n\n\n\n終了後に、懇親会が予定
 されています。
CATEGORIES:会員研究発表会
LOCATION:豊島区立西巣鴨中学校\, 南大塚3-18-1\, 豊島区\, 東
 京都\, 1700005\, 日本
X-APPLE-STRUCTURED-LOCATION;VALUE=URI;X-ADDRESS=南大塚3-18-1\, 豊島区
 \, 東京都\, 1700005\, 日本;X-APPLE-RADIUS=100;X-TITLE=豊島区立西
 巣鴨中学校:geo:0,0
END:VEVENT
BEGIN:VTIMEZONE
TZID:Asia/Tokyo
X-LIC-LOCATION:Asia/Tokyo
BEGIN:STANDARD
DTSTART:20231116T140000
TZOFFSETFROM:+0900
TZOFFSETTO:+0900
TZNAME:JST
END:STANDARD
END:VTIMEZONE
END:VCALENDAR