BEGIN:VCALENDAR
VERSION:2.0
PRODID:-//wp-events-plugin.com//7.2.3.1//EN
TZID:Asia/Tokyo
X-WR-TIMEZONE:Asia/Tokyo
BEGIN:VEVENT
UID:122@tochuri.net
DTSTART;TZID=Asia/Tokyo:20240802T084500
DTEND;TZID=Asia/Tokyo:20240802T170000
DTSTAMP:20240724T054401Z
URL:http://www.tochuri.net/events/r6kakigenchi/
SUMMARY:令和6年度観察実験委員会　現地研修会
DESCRIPTION:参加者を20名募集しています。応募多数の場合
 は抽選です。詳しくは案内PDFをご覧ください\n\n[pdf-embed
 der url="http://www.tochuri.net/wp-content/uploads/2024/06/24gentiken0802-
 1.pdf" title="20240802観察実験委員会現地研修会"]\n\n\n\n見学
 先\n\n 	三井化学株式会社市原工場（千葉県市原市千種
 海岸）\n 	株式会社プライムポリマー産包材研究所（三
 井化学 市原工場内）\n 	エム・エム・プラスチック株式
 会社富津プラスチック資源化工場（千葉県富津市）\n\n
 募集人数\n\n 	都中理会員２０名（応募多数の場合は抽
 選。人数には本委員会運営スタッフを含む）\n 	他にプ
 ラスチック教育連絡会関係者１０名の合計３０名で開
 催。\n\n集合\n午前８時４５分 東京駅周辺（参加決定者
 にはメールにて詳細を連絡）\n解 散\n午後５時頃 東京
 駅周辺\n日程\n貸切バス移動→三井化学・プライムポリ
 マー見学 → 昼食 → 貸切バス移動→ エム・エム・プラ
 スチック見学 → 貸切バス移動 → 東京駅周辺解散\n参
 加費\n昼食代として５００円を徴収（当日）
CATEGORIES:研修会,観察・実験委員会
END:VEVENT
BEGIN:VTIMEZONE
TZID:Asia/Tokyo
X-LIC-LOCATION:Asia/Tokyo
BEGIN:STANDARD
DTSTART:20230803T084500
TZOFFSETFROM:+0900
TZOFFSETTO:+0900
TZNAME:JST
END:STANDARD
END:VTIMEZONE
END:VCALENDAR