BEGIN:VCALENDAR
VERSION:2.0
PRODID:-//wp-events-plugin.com//7.2.3.1//EN
TZID:Asia/Tokyo
X-WR-TIMEZONE:Asia/Tokyo
BEGIN:VEVENT
UID:125@tochuri.net
DTSTART;TZID=Asia/Tokyo:20240806T160000
DTEND;TZID=Asia/Tokyo:20240806T170000
DTSTAMP:20240718T083437Z
URL:http://www.tochuri.net/events/r6kenshu01/
SUMMARY:令和6年度第1回研修部会
DESCRIPTION:[pdf-embedder url="http://www.tochuri.net/wp-content/uploads/20
 24/07/24kenshu01.pdf" title="令和6年度第1回研修部会"]
CATEGORIES:研修部
LOCATION:豊島区立西巣鴨中学校\, 南大塚3-18-1\, 豊島区\, 東
 京都\, 1700005\, 日本
X-APPLE-STRUCTURED-LOCATION;VALUE=URI;X-ADDRESS=南大塚3-18-1\, 豊島区
 \, 東京都\, 1700005\, 日本;X-APPLE-RADIUS=100;X-TITLE=豊島区立西
 巣鴨中学校:geo:0,0
END:VEVENT
BEGIN:VTIMEZONE
TZID:Asia/Tokyo
X-LIC-LOCATION:Asia/Tokyo
BEGIN:STANDARD
DTSTART:20230807T160000
TZOFFSETFROM:+0900
TZOFFSETTO:+0900
TZNAME:JST
END:STANDARD
END:VTIMEZONE
END:VCALENDAR