BEGIN:VCALENDAR
VERSION:2.0
PRODID:-//wp-events-plugin.com//7.2.3.1//EN
TZID:Asia/Tokyo
X-WR-TIMEZONE:Asia/Tokyo
BEGIN:VEVENT
UID:128@tochuri.net
DTSTART;TZID=Asia/Tokyo:20240809T173000
DTEND;TZID=Asia/Tokyo:20240809T193000
DTSTAMP:20240729T141900Z
URL:http://www.tochuri.net/events/r6zcrkonshin/
SUMMARY:令和6年度全中理山梨大会　懇親会
DESCRIPTION:[pdf-embedder url="http://www.tochuri.net/wp-content/uploads/20
 24/07/24konshin.pdf" title="令和6年度全中理山梨大会　都中理
 懇親会　ご案内"]
CATEGORIES:全中理,懇親会
LOCATION:Ｃｕ－Ｓｕｋｅ甲府駅前店\, 丸の内1-8-12\, 甲府市
 \, 山梨県\, 4000031\, 日本
X-APPLE-STRUCTURED-LOCATION;VALUE=URI;X-ADDRESS=丸の内1-8-12\, 甲府市
 \, 山梨県\, 4000031\, 日本;X-APPLE-RADIUS=100;X-TITLE=Ｃｕ－Ｓｕ
 ｋｅ甲府駅前店:geo:0,0
END:VEVENT
BEGIN:VTIMEZONE
TZID:Asia/Tokyo
X-LIC-LOCATION:Asia/Tokyo
BEGIN:STANDARD
DTSTART:20230810T173000
TZOFFSETFROM:+0900
TZOFFSETTO:+0900
TZNAME:JST
END:STANDARD
END:VTIMEZONE
END:VCALENDAR