BEGIN:VCALENDAR
VERSION:2.0
PRODID:-//wp-events-plugin.com//7.2.3.1//EN
TZID:Asia/Tokyo
X-WR-TIMEZONE:Asia/Tokyo
BEGIN:VEVENT
UID:136@tochuri.net
DTSTART;TZID=Asia/Tokyo:20241215T103000
DTEND;TZID=Asia/Tokyo:20241215T120000
DTSTAMP:20241123T042914Z
URL:http://www.tochuri.net/events/scafe24/
SUMMARY:比べてわかるハチの世界
DESCRIPTION:[pdf-embedder url="http://www.tochuri.net/wp-content/uploads/20
 24/11/scafe2024_02.pdf" title="比べてわかるハチの世界n"]\n\nチ
 ラシ
CATEGORIES:その他理科関係イベント
LOCATION:国立科学博物館\, 上野公園7-20\, 台東区\, 東京都\,
  1108718\, 日本
X-APPLE-STRUCTURED-LOCATION;VALUE=URI;X-ADDRESS=上野公園7-20\, 台東
 区\, 東京都\, 1108718\, 日本;X-APPLE-RADIUS=100;X-TITLE=国立科学
 博物館:geo:0,0
END:VEVENT
BEGIN:VTIMEZONE
TZID:Asia/Tokyo
X-LIC-LOCATION:Asia/Tokyo
BEGIN:STANDARD
DTSTART:20231216T103000
TZOFFSETFROM:+0900
TZOFFSETTO:+0900
TZNAME:JST
END:STANDARD
END:VTIMEZONE
END:VCALENDAR