BEGIN:VCALENDAR
VERSION:2.0
PRODID:-//wp-events-plugin.com//7.2.3.1//EN
TZID:Asia/Tokyo
X-WR-TIMEZONE:Asia/Tokyo
BEGIN:VEVENT
UID:145@tochuri.net
DTSTART;TZID=Asia/Tokyo:20250721T130000
DTEND;TZID=Asia/Tokyo:20250721T170000
DTSTAMP:20250609T144312Z
URL:http://www.tochuri.net/events/swu/
SUMMARY:科学の楽しさを伝えるサイエンスショー
DESCRIPTION:[pdf-embedder url="http://www.tochuri.net/wp-content/uploads/20
 25/06/25swu0721_2.pdf" title="科学の楽しさを伝えるサイエン
 スショー　チラシ"]\n\n[pdf-embedder url="http://www.tochuri.net/wp
 -content/uploads/2025/06/25swu0721_1.pdf" title="科学の楽しさを伝
 えるサイエンスショー　開催通知"]
CATEGORIES:その他理科関係イベント
LOCATION:昭和女子大学\, 太子堂１丁目７−５７\, 世田谷区
 \, 東京都\, 1548533\, 日本
X-APPLE-STRUCTURED-LOCATION;VALUE=URI;X-ADDRESS=太子堂１丁目７−５
 ７\, 世田谷区\, 東京都\, 1548533\, 日本;X-APPLE-RADIUS=100;X-TIT
 LE=昭和女子大学:geo:0,0
END:VEVENT
BEGIN:VTIMEZONE
TZID:Asia/Tokyo
X-LIC-LOCATION:Asia/Tokyo
BEGIN:STANDARD
DTSTART:20240721T130000
TZOFFSETFROM:+0900
TZOFFSETTO:+0900
TZNAME:JST
END:STANDARD
END:VTIMEZONE
END:VCALENDAR