BEGIN:VCALENDAR
VERSION:2.0
PRODID:-//wp-events-plugin.com//7.2.3.1//EN
TZID:Asia/Tokyo
X-WR-TIMEZONE:Asia/Tokyo
BEGIN:VEVENT
UID:129@tochuri.net
DTSTART;TZID=Asia/Tokyo;VALUE=DATE:20240808
DTEND;TZID=Asia/Tokyo;VALUE=DATE:20240811
DTSTAMP:20240722T063319Z
URL:http://www.tochuri.net/events/zcr71/
SUMMARY:第71回全国理科教育研究会　山梨大会
DESCRIPTION:https://yamanashi-sciedu.com/%e5%85%a8%e4%b8%ad%e7%90%86%e5%b1%
 b1%e6%a2%a8%e5%a4%a7%e4%bc%9a/\n\n山梨大会のホームページをご
 覧ください。
CATEGORIES:全中理
END:VEVENT
BEGIN:VTIMEZONE
TZID:Asia/Tokyo
X-LIC-LOCATION:Asia/Tokyo
BEGIN:STANDARD
DTSTART:20230809T000000
TZOFFSETFROM:+0900
TZOFFSETTO:+0900
TZNAME:JST
END:STANDARD
END:VTIMEZONE
END:VCALENDAR